BEGIN:VCALENDAR
VERSION:2.0
PRODID:-//宮古島「税」のカレンダー - ECPv6.8.3//NONSGML v1.0//EN
CALSCALE:GREGORIAN
METHOD:PUBLISH
X-WR-CALNAME:宮古島「税」のカレンダー
X-ORIGINAL-URL:https://miyakojima.jp/tax
X-WR-CALDESC:宮古島「税」のカレンダー のイベント
REFRESH-INTERVAL;VALUE=DURATION:PT1H
X-Robots-Tag:noindex
X-PUBLISHED-TTL:PT1H
BEGIN:VTIMEZONE
TZID:Asia/Tokyo
BEGIN:STANDARD
TZOFFSETFROM:+0900
TZOFFSETTO:+0900
TZNAME:JST
DTSTART:20240101T000000
END:STANDARD
END:VTIMEZONE
BEGIN:VEVENT
DTSTART;TZID=Asia/Tokyo:20241211T100000
DTEND;TZID=Asia/Tokyo:20241211T120000
DTSTAMP:20260421T143656
CREATED:20241031T012329Z
LAST-MODIFIED:20241031T012329Z
UID:295-1733911200-1733918400@miyakojima.jp
SUMMARY:決算説明会（白色申告者）
DESCRIPTION:個人で事業や不動産貸付け等を行うすべての方（所得税及び復興特別所得税の申告の必要がない方も含みます。）は、記帳と帳簿書類の保存が必要です。 \n\n\n\n宮古島税務署では、多くの方々に正しい帳簿記録に基づいて正しい決算・申告をしていただくために、記帳制度の対象となっている方々を対象として、税理士による無料の決算説明会を開催いたしますのでご利用ください。詳細は、添付資料「決算説明会のご案内（白色申告者）」をご確認ください。
URL:https://miyakojima.jp/tax/event/%e6%b1%ba%e7%ae%97%e8%aa%ac%e6%98%8e%e4%bc%9a%ef%bc%88%e7%99%bd%e8%89%b2%e7%94%b3%e5%91%8a%e8%80%85%ef%bc%89/
CATEGORIES:所得税
END:VEVENT
END:VCALENDAR