BEGIN:VCALENDAR
VERSION:2.0
PRODID:-//宮古島「税」のカレンダー - ECPv6.8.3//NONSGML v1.0//EN
CALSCALE:GREGORIAN
METHOD:PUBLISH
X-WR-CALNAME:宮古島「税」のカレンダー
X-ORIGINAL-URL:https://miyakojima.jp/tax
X-WR-CALDESC:宮古島「税」のカレンダー のイベント
REFRESH-INTERVAL;VALUE=DURATION:PT1H
X-Robots-Tag:noindex
X-PUBLISHED-TTL:PT1H
BEGIN:VTIMEZONE
TZID:Asia/Tokyo
BEGIN:STANDARD
TZOFFSETFROM:+0900
TZOFFSETTO:+0900
TZNAME:JST
DTSTART:20240101T000000
END:STANDARD
END:VTIMEZONE
BEGIN:VEVENT
DTSTART;TZID=Asia/Tokyo:20241213T100000
DTEND;TZID=Asia/Tokyo:20241213T160000
DTSTAMP:20260422T001436
CREATED:20241031T012533Z
LAST-MODIFIED:20241031T012534Z
UID:306-1734084000-1734105600@miyakojima.jp
SUMMARY:決算説明会（申告者青色）
DESCRIPTION:宮古島税務署では、多くの方々に正しい帳簿記録に基づいて正しい決算・申告をしていただくために、決算書及び貸借対照表の作成方法、確定申告に当たっての留意点など、税理士による無料の決算説明会を開催いたしますので、ご利用ください。詳細は、添付資料「決算説明会のご案内（新規課税事業者）」をご確認ください。 \n\n\n\n\n\n\n\n\n\n\n\n\n\n\n\n\n\n“
URL:https://miyakojima.jp/tax/event/%e6%b1%ba%e7%ae%97%e8%aa%ac%e6%98%8e%e4%bc%9a%ef%bc%88%e7%94%b3%e5%91%8a%e8%80%85%e9%9d%92%e8%89%b2%ef%bc%89/
CATEGORIES:所得税
END:VEVENT
END:VCALENDAR