BEGIN:VCALENDAR
VERSION:2.0
PRODID:-//宮古島「税」のカレンダー - ECPv6.8.3//NONSGML v1.0//EN
CALSCALE:GREGORIAN
METHOD:PUBLISH
X-WR-CALNAME:宮古島「税」のカレンダー
X-ORIGINAL-URL:https://miyakojima.jp/tax
X-WR-CALDESC:宮古島「税」のカレンダー のイベント
REFRESH-INTERVAL;VALUE=DURATION:PT1H
X-Robots-Tag:noindex
X-PUBLISHED-TTL:PT1H
BEGIN:VTIMEZONE
TZID:Asia/Tokyo
BEGIN:STANDARD
TZOFFSETFROM:+0900
TZOFFSETTO:+0900
TZNAME:JST
DTSTART:20250101T000000
END:STANDARD
END:VTIMEZONE
BEGIN:VEVENT
DTSTART;TZID=Asia/Tokyo:20251201T000000
DTEND;TZID=Asia/Tokyo:20251201T235959
DTSTAMP:20260421T032241
CREATED:20250702T070058Z
LAST-MODIFIED:20250702T070059Z
UID:1290-1764547200-1764633599@miyakojima.jp
SUMMARY:予定納税（所得税等）第２期納期限
DESCRIPTION:詳細はコチラ
URL:https://miyakojima.jp/tax/event/%e4%ba%88%e5%ae%9a%e7%b4%8d%e7%a8%8e%ef%bc%88%e6%89%80%e5%be%97%e7%a8%8e%e7%ad%89%ef%bc%89%e7%ac%ac%ef%bc%92%e6%9c%9f%e7%b4%8d%e6%9c%9f%e9%99%90/
CATEGORIES:所得税
END:VEVENT
END:VCALENDAR