BEGIN:VCALENDAR
VERSION:2.0
PRODID:-//宮古島「税」のカレンダー - ECPv6.8.3//NONSGML v1.0//EN
CALSCALE:GREGORIAN
METHOD:PUBLISH
X-WR-CALNAME:宮古島「税」のカレンダー
X-ORIGINAL-URL:https://miyakojima.jp/tax
X-WR-CALDESC:宮古島「税」のカレンダー のイベント
REFRESH-INTERVAL;VALUE=DURATION:PT1H
X-Robots-Tag:noindex
X-PUBLISHED-TTL:PT1H
BEGIN:VTIMEZONE
TZID:Asia/Tokyo
BEGIN:STANDARD
TZOFFSETFROM:+0900
TZOFFSETTO:+0900
TZNAME:JST
DTSTART:20240101T000000
END:STANDARD
END:VTIMEZONE
BEGIN:VEVENT
DTSTART;TZID=Asia/Tokyo:20260331T000000
DTEND;TZID=Asia/Tokyo:20260331T235959
DTSTAMP:20260421T110713
CREATED:20241030T142336Z
LAST-MODIFIED:20241030T142336Z
UID:510-1774915200-1775001599@miyakojima.jp
SUMMARY:１月決算法人の法人税・消費税申告期限
DESCRIPTION:本日は、１月決算法人の法人税及び地方法人税、消費税及び地方消費税の確定申告期限です。
URL:https://miyakojima.jp/tax/event/%ef%bc%91%e6%9c%88%e6%b1%ba%e7%ae%97%e6%b3%95%e4%ba%ba%e3%81%ae%e6%b3%95%e4%ba%ba%e7%a8%8e%e3%83%bb%e6%b6%88%e8%b2%bb%e7%a8%8e%e7%94%b3%e5%91%8a%e6%9c%9f%e9%99%90-2/
CATEGORIES:法人税・消費税
END:VEVENT
BEGIN:VEVENT
DTSTART;TZID=Asia/Tokyo:20260302T000000
DTEND;TZID=Asia/Tokyo:20260302T235959
DTSTAMP:20260421T110713
CREATED:20241030T142336Z
LAST-MODIFIED:20241030T142336Z
UID:508-1772409600-1772495999@miyakojima.jp
SUMMARY:12月決算法人の法人税・消費税申告期限
DESCRIPTION:本日は、12月決算法人の法人税及び地方法人税、消費税及び地方消費税の確定申告期限です。
URL:https://miyakojima.jp/tax/event/12%e6%9c%88%e6%b1%ba%e7%ae%97%e6%b3%95%e4%ba%ba%e3%81%ae%e6%b3%95%e4%ba%ba%e7%a8%8e%e3%83%bb%e6%b6%88%e8%b2%bb%e7%a8%8e%e7%94%b3%e5%91%8a%e6%9c%9f%e9%99%90-2/
CATEGORIES:法人税・消費税
END:VEVENT
BEGIN:VEVENT
DTSTART;TZID=Asia/Tokyo:20260202T000000
DTEND;TZID=Asia/Tokyo:20260202T235959
DTSTAMP:20260421T110713
CREATED:20241030T142335Z
LAST-MODIFIED:20241030T142335Z
UID:505-1769990400-1770076799@miyakojima.jp
SUMMARY:11月決算法人の法人税・消費税申告期限
DESCRIPTION:本日は、11月決算法人の法人税及び地方法人税、消費税及び地方消費税の確定申告期限です。
URL:https://miyakojima.jp/tax/event/11%e6%9c%88%e6%b1%ba%e7%ae%97%e6%b3%95%e4%ba%ba%e3%81%ae%e6%b3%95%e4%ba%ba%e7%a8%8e%e3%83%bb%e6%b6%88%e8%b2%bb%e7%a8%8e%e7%94%b3%e5%91%8a%e6%9c%9f%e9%99%90/
CATEGORIES:法人税・消費税
END:VEVENT
BEGIN:VEVENT
DTSTART;TZID=Asia/Tokyo:20260105T000000
DTEND;TZID=Asia/Tokyo:20260105T235959
DTSTAMP:20260421T110714
CREATED:20241030T142335Z
LAST-MODIFIED:20241030T142335Z
UID:502-1767571200-1767657599@miyakojima.jp
SUMMARY:10月決算法人の法人税・消費税申告期限
DESCRIPTION:本日は、10月決算法人の法人税及び地方法人税、消費税及び地方消費税の確定申告期限です。
URL:https://miyakojima.jp/tax/event/10%e6%9c%88%e6%b1%ba%e7%ae%97%e6%b3%95%e4%ba%ba%e3%81%ae%e6%b3%95%e4%ba%ba%e7%a8%8e%e3%83%bb%e6%b6%88%e8%b2%bb%e7%a8%8e%e7%94%b3%e5%91%8a%e6%9c%9f%e9%99%90/
CATEGORIES:法人税・消費税
END:VEVENT
BEGIN:VEVENT
DTSTART;TZID=Asia/Tokyo:20251201T000000
DTEND;TZID=Asia/Tokyo:20251201T235959
DTSTAMP:20260421T110714
CREATED:20241030T142334Z
LAST-MODIFIED:20241030T142334Z
UID:500-1764547200-1764633599@miyakojima.jp
SUMMARY:９月決算法人の法人税・消費税申告期限
DESCRIPTION:本日は、９月決算法人の法人税及び地方法人税、消費税及び地方消費税の確定申告期限です。
URL:https://miyakojima.jp/tax/event/%ef%bc%99%e6%9c%88%e6%b1%ba%e7%ae%97%e6%b3%95%e4%ba%ba%e3%81%ae%e6%b3%95%e4%ba%ba%e7%a8%8e%e3%83%bb%e6%b6%88%e8%b2%bb%e7%a8%8e%e7%94%b3%e5%91%8a%e6%9c%9f%e9%99%90/
CATEGORIES:法人税・消費税
END:VEVENT
BEGIN:VEVENT
DTSTART;TZID=Asia/Tokyo:20251031T000000
DTEND;TZID=Asia/Tokyo:20251031T235959
DTSTAMP:20260421T110714
CREATED:20241030T142334Z
LAST-MODIFIED:20241030T142334Z
UID:498-1761868800-1761955199@miyakojima.jp
SUMMARY:８月決算法人の法人税・消費税申告期限
DESCRIPTION:本日は、８月決算法人の法人税及び地方法人税、消費税及び地方消費税の確定申告期限です。
URL:https://miyakojima.jp/tax/event/%ef%bc%98%e6%9c%88%e6%b1%ba%e7%ae%97%e6%b3%95%e4%ba%ba%e3%81%ae%e6%b3%95%e4%ba%ba%e7%a8%8e%e3%83%bb%e6%b6%88%e8%b2%bb%e7%a8%8e%e7%94%b3%e5%91%8a%e6%9c%9f%e9%99%90/
CATEGORIES:法人税・消費税
END:VEVENT
BEGIN:VEVENT
DTSTART;TZID=Asia/Tokyo:20250930T000000
DTEND;TZID=Asia/Tokyo:20250930T235959
DTSTAMP:20260421T110714
CREATED:20241030T142334Z
LAST-MODIFIED:20241030T142334Z
UID:496-1759190400-1759276799@miyakojima.jp
SUMMARY:７月決算法人の法人税・消費税申告期限
DESCRIPTION:本日は、７月決算法人の法人税及び地方法人税、消費税及び地方消費税の確定申告期限です。
URL:https://miyakojima.jp/tax/event/%ef%bc%97%e6%9c%88%e6%b1%ba%e7%ae%97%e6%b3%95%e4%ba%ba%e3%81%ae%e6%b3%95%e4%ba%ba%e7%a8%8e%e3%83%bb%e6%b6%88%e8%b2%bb%e7%a8%8e%e7%94%b3%e5%91%8a%e6%9c%9f%e9%99%90/
CATEGORIES:法人税・消費税
END:VEVENT
BEGIN:VEVENT
DTSTART;TZID=Asia/Tokyo:20250929T000000
DTEND;TZID=Asia/Tokyo:20250929T235959
DTSTAMP:20260421T110714
CREATED:20250702T070055Z
LAST-MODIFIED:20250702T070056Z
UID:1294-1759104000-1759190399@miyakojima.jp
SUMMARY:個人事業者の消費税及び地方消費税の中間申告と納付
DESCRIPTION:
URL:https://miyakojima.jp/tax/event/%e5%80%8b%e4%ba%ba%e4%ba%8b%e6%a5%ad%e8%80%85%e3%81%ae%e6%b6%88%e8%b2%bb%e7%a8%8e%e5%8f%8a%e3%81%b3%e5%9c%b0%e6%96%b9%e6%b6%88%e8%b2%bb%e7%a8%8e%e3%81%ae%e4%b8%ad%e9%96%93%e7%94%b3%e5%91%8a%e3%81%a8/
CATEGORIES:法人税・消費税
END:VEVENT
BEGIN:VEVENT
DTSTART;TZID=Asia/Tokyo:20250901T000000
DTEND;TZID=Asia/Tokyo:20250901T235959
DTSTAMP:20260421T110714
CREATED:20250702T070057Z
LAST-MODIFIED:20250702T070057Z
UID:1292-1756684800-1756771199@miyakojima.jp
SUMMARY:個人事業者の消費税及び地方消費税の中間申告と納付
DESCRIPTION:
URL:https://miyakojima.jp/tax/event/%e5%80%8b%e4%ba%ba%e4%ba%8b%e6%a5%ad%e8%80%85%e3%81%ae%e6%b6%88%e8%b2%bb%e7%a8%8e%e5%8f%8a%e3%81%b3%e5%9c%b0%e6%96%b9%e6%b6%88%e8%b2%bb%e7%a8%8e%e3%81%ae%e4%b8%ad%e9%96%93%e7%94%b3%e5%91%8a%e3%81%a8-2/
CATEGORIES:法人税・消費税
END:VEVENT
BEGIN:VEVENT
DTSTART;TZID=Asia/Tokyo:20250901T000000
DTEND;TZID=Asia/Tokyo:20250901T235959
DTSTAMP:20260421T110714
CREATED:20241030T142333Z
LAST-MODIFIED:20241030T142333Z
UID:494-1756684800-1756771199@miyakojima.jp
SUMMARY:６月決算法人の法人税・消費税申告期限
DESCRIPTION:本日は、６月決算法人の法人税及び地方法人税、消費税及び地方消費税の確定申告期限です。
URL:https://miyakojima.jp/tax/event/%ef%bc%96%e6%9c%88%e6%b1%ba%e7%ae%97%e6%b3%95%e4%ba%ba%e3%81%ae%e6%b3%95%e4%ba%ba%e7%a8%8e%e3%83%bb%e6%b6%88%e8%b2%bb%e7%a8%8e%e7%94%b3%e5%91%8a%e6%9c%9f%e9%99%90/
CATEGORIES:法人税・消費税
END:VEVENT
BEGIN:VEVENT
DTSTART;TZID=Asia/Tokyo:20250731T000000
DTEND;TZID=Asia/Tokyo:20250731T235959
DTSTAMP:20260421T110714
CREATED:20241030T142333Z
LAST-MODIFIED:20241030T142333Z
UID:492-1753920000-1754006399@miyakojima.jp
SUMMARY:５月決算法人の法人税・消費税申告期限
DESCRIPTION:本日は、５月決算法人の法人税及び地方法人税、消費税及び地方消費税の確定申告期限です。
URL:https://miyakojima.jp/tax/event/%ef%bc%95%e6%9c%88%e6%b1%ba%e7%ae%97%e6%b3%95%e4%ba%ba%e3%81%ae%e6%b3%95%e4%ba%ba%e7%a8%8e%e3%83%bb%e6%b6%88%e8%b2%bb%e7%a8%8e%e7%94%b3%e5%91%8a%e6%9c%9f%e9%99%90/
CATEGORIES:法人税・消費税
END:VEVENT
BEGIN:VEVENT
DTSTART;TZID=Asia/Tokyo:20250630T000000
DTEND;TZID=Asia/Tokyo:20250630T235959
DTSTAMP:20260421T110714
CREATED:20241030T142333Z
LAST-MODIFIED:20241030T142333Z
UID:489-1751241600-1751327999@miyakojima.jp
SUMMARY:４月決算法人の法人税・消費税申告期限
DESCRIPTION:本日は、４月決算法人の法人税及び地方法人税、消費税及び地方消費税の確定申告期限です。
URL:https://miyakojima.jp/tax/event/%ef%bc%94%e6%9c%88%e6%b1%ba%e7%ae%97%e6%b3%95%e4%ba%ba%e3%81%ae%e6%b3%95%e4%ba%ba%e7%a8%8e%e3%83%bb%e6%b6%88%e8%b2%bb%e7%a8%8e%e7%94%b3%e5%91%8a%e6%9c%9f%e9%99%90/
CATEGORIES:法人税・消費税
END:VEVENT
BEGIN:VEVENT
DTSTART;TZID=Asia/Tokyo:20250602T000000
DTEND;TZID=Asia/Tokyo:20250602T235959
DTSTAMP:20260421T110714
CREATED:20241030T142332Z
LAST-MODIFIED:20241030T142332Z
UID:487-1748822400-1748908799@miyakojima.jp
SUMMARY:３月決算法人の法人税・消費税申告期限
DESCRIPTION:本日は、３月決算法人の法人税及び地方法人税、消費税及び地方消費税の確定申告期限です。
URL:https://miyakojima.jp/tax/event/%ef%bc%93%e6%9c%88%e6%b1%ba%e7%ae%97%e6%b3%95%e4%ba%ba%e3%81%ae%e6%b3%95%e4%ba%ba%e7%a8%8e%e3%83%bb%e6%b6%88%e8%b2%bb%e7%a8%8e%e7%94%b3%e5%91%8a%e6%9c%9f%e9%99%90/
CATEGORIES:法人税・消費税
END:VEVENT
BEGIN:VEVENT
DTSTART;TZID=Asia/Tokyo:20250430T000000
DTEND;TZID=Asia/Tokyo:20250430T235959
DTSTAMP:20260421T110714
CREATED:20241030T142157Z
LAST-MODIFIED:20241030T142157Z
UID:485-1745971200-1746057599@miyakojima.jp
SUMMARY:２月決算法人の法人税・消費税申告期限
DESCRIPTION:本日は、２月決算法人の法人税及び地方法人税、消費税及び地方消費税の確定申告期限です。
URL:https://miyakojima.jp/tax/event/%ef%bc%92%e6%9c%88%e6%b1%ba%e7%ae%97%e6%b3%95%e4%ba%ba%e3%81%ae%e6%b3%95%e4%ba%ba%e7%a8%8e%e3%83%bb%e6%b6%88%e8%b2%bb%e7%a8%8e%e7%94%b3%e5%91%8a%e6%9c%9f%e9%99%90/
CATEGORIES:法人税・消費税
END:VEVENT
BEGIN:VEVENT
DTSTART;TZID=Asia/Tokyo:20250331T000000
DTEND;TZID=Asia/Tokyo:20250331T235959
DTSTAMP:20260421T110714
CREATED:20241030T142142Z
LAST-MODIFIED:20241030T142142Z
UID:483-1743379200-1743465599@miyakojima.jp
SUMMARY:１月決算法人の法人税・消費税申告期限
DESCRIPTION:本日は、１月決算法人の法人税及び地方法人税、消費税及び地方消費税の確定申告期限です。
URL:https://miyakojima.jp/tax/event/%ef%bc%91%e6%9c%88%e6%b1%ba%e7%ae%97%e6%b3%95%e4%ba%ba%e3%81%ae%e6%b3%95%e4%ba%ba%e7%a8%8e%e3%83%bb%e6%b6%88%e8%b2%bb%e7%a8%8e%e7%94%b3%e5%91%8a%e6%9c%9f%e9%99%90/
CATEGORIES:法人税・消費税
END:VEVENT
BEGIN:VEVENT
DTSTART;TZID=Asia/Tokyo:20250228T000000
DTEND;TZID=Asia/Tokyo:20250228T235959
DTSTAMP:20260421T110714
CREATED:20241030T142126Z
LAST-MODIFIED:20241030T142126Z
UID:481-1740700800-1740787199@miyakojima.jp
SUMMARY:12月決算法人の法人税・消費税申告期限
DESCRIPTION:本日は、12月決算法人の法人税及び地方法人税、消費税及び地方消費税の確定申告期限です。
URL:https://miyakojima.jp/tax/event/12%e6%9c%88%e6%b1%ba%e7%ae%97%e6%b3%95%e4%ba%ba%e3%81%ae%e6%b3%95%e4%ba%ba%e7%a8%8e%e3%83%bb%e6%b6%88%e8%b2%bb%e7%a8%8e%e7%94%b3%e5%91%8a%e6%9c%9f%e9%99%90/
CATEGORIES:法人税・消費税
END:VEVENT
BEGIN:VEVENT
DTSTART;TZID=Asia/Tokyo:20250131T000000
DTEND;TZID=Asia/Tokyo:20250131T235959
DTSTAMP:20260421T110714
CREATED:20241031T011439Z
LAST-MODIFIED:20241031T011440Z
UID:366-1738281600-1738367999@miyakojima.jp
SUMMARY:11月決算法人の法人税・消費税申告期限
DESCRIPTION:本日は、11月決算法人の法人税及び地方法人税、消費税及び地方消費税の確定申告期限です。
URL:https://miyakojima.jp/tax/event/11%e6%9c%88%e6%b1%ba%e7%ae%97%e6%b3%95%e4%ba%ba%e3%81%ae%e6%b3%95%e4%ba%ba%e7%a8%8e%e3%83%bb%e6%b6%88%e8%b2%bb%e7%a8%8e%e7%94%b3%e5%91%8a%e6%9c%9f%e9%99%90-2/
CATEGORIES:法人税・消費税
END:VEVENT
BEGIN:VEVENT
DTSTART;TZID=Asia/Tokyo:20250106T000000
DTEND;TZID=Asia/Tokyo:20250106T235959
DTSTAMP:20260421T110714
CREATED:20241031T012628Z
LAST-MODIFIED:20241031T012630Z
UID:347-1736121600-1736207999@miyakojima.jp
SUMMARY:10月決算法人の法人税・消費税申告期限
DESCRIPTION:本日は、10月決算法人の法人税及び地方法人税、消費税及び地方消費税の確定申告期限です。
URL:https://miyakojima.jp/tax/event/10%e6%9c%88%e6%b1%ba%e7%ae%97%e6%b3%95%e4%ba%ba%e3%81%ae%e6%b3%95%e4%ba%ba%e7%a8%8e%e3%83%bb%e6%b6%88%e8%b2%bb%e7%a8%8e%e7%94%b3%e5%91%8a%e6%9c%9f%e9%99%90-2/
CATEGORIES:法人税・消費税
END:VEVENT
BEGIN:VEVENT
DTSTART;TZID=Asia/Tokyo:20241202T000000
DTEND;TZID=Asia/Tokyo:20241202T235959
DTSTAMP:20260421T110714
CREATED:20241031T012038Z
LAST-MODIFIED:20241031T012038Z
UID:343-1733097600-1733183999@miyakojima.jp
SUMMARY:９月決算法人の法人税・消費税申告期限
DESCRIPTION:本日は、９月決算法人の法人税及び地方法人税、消費税及び地方消費税の確定申告期限です。
URL:https://miyakojima.jp/tax/event/%ef%bc%99%e6%9c%88%e6%b1%ba%e7%ae%97%e6%b3%95%e4%ba%ba%e3%81%ae%e6%b3%95%e4%ba%ba%e7%a8%8e%e3%83%bb%e6%b6%88%e8%b2%bb%e7%a8%8e%e7%94%b3%e5%91%8a%e6%9c%9f%e9%99%90-2/
CATEGORIES:法人税・消費税
END:VEVENT
END:VCALENDAR