BEGIN:VCALENDAR
VERSION:2.0
PRODID:-//宮古島「税」のカレンダー - ECPv6.8.3//NONSGML v1.0//EN
CALSCALE:GREGORIAN
METHOD:PUBLISH
X-WR-CALNAME:宮古島「税」のカレンダー
X-ORIGINAL-URL:https://miyakojima.jp/tax
X-WR-CALDESC:宮古島「税」のカレンダー のイベント
REFRESH-INTERVAL;VALUE=DURATION:PT1H
X-Robots-Tag:noindex
X-PUBLISHED-TTL:PT1H
BEGIN:VTIMEZONE
TZID:Asia/Tokyo
BEGIN:STANDARD
TZOFFSETFROM:+0900
TZOFFSETTO:+0900
TZNAME:JST
DTSTART:20240101T000000
END:STANDARD
END:VTIMEZONE
BEGIN:VEVENT
DTSTART;TZID=Asia/Tokyo:20241111T000000
DTEND;TZID=Asia/Tokyo:20241117T235959
DTSTAMP:20260422T015025
CREATED:20241031T011404Z
LAST-MODIFIED:20241031T093959Z
UID:288-1731283200-1731887999@miyakojima.jp
SUMMARY:税を考える週間
DESCRIPTION:毎年11月11日から17日の１週間を「税を考える週間」とし、この期間を中心に様々な広報を行っています。
URL:https://miyakojima.jp/tax/event/%e7%a8%8e%e3%82%92%e8%80%83%e3%81%88%e3%82%8b%e9%80%b1%e9%96%93/
CATEGORIES:源泉所得税
END:VEVENT
END:VCALENDAR