BEGIN:VCALENDAR
VERSION:2.0
PRODID:-//宮古島「税」のカレンダー - ECPv6.8.3//NONSGML v1.0//EN
CALSCALE:GREGORIAN
METHOD:PUBLISH
X-WR-CALNAME:宮古島「税」のカレンダー
X-ORIGINAL-URL:https://miyakojima.jp/tax
X-WR-CALDESC:宮古島「税」のカレンダー のイベント
REFRESH-INTERVAL;VALUE=DURATION:PT1H
X-Robots-Tag:noindex
X-PUBLISHED-TTL:PT1H
BEGIN:VTIMEZONE
TZID:Asia/Tokyo
BEGIN:STANDARD
TZOFFSETFROM:+0900
TZOFFSETTO:+0900
TZNAME:JST
DTSTART:20240101T000000
END:STANDARD
END:VTIMEZONE
BEGIN:VEVENT
DTSTART;TZID=Asia/Tokyo:20260331T000000
DTEND;TZID=Asia/Tokyo:20260331T235959
DTSTAMP:20260421T142414
CREATED:20241031T234056Z
LAST-MODIFIED:20241031T234056Z
UID:724-1774915200-1775001599@miyakojima.jp
SUMMARY:1月決算法人　法人市民税申告・納付期限
DESCRIPTION:
URL:https://miyakojima.jp/tax/event/1%e6%9c%88%e6%b1%ba%e7%ae%97%e6%b3%95%e4%ba%ba%e3%80%80%e6%b3%95%e4%ba%ba%e5%b8%82%e6%b0%91%e7%a8%8e%e7%94%b3%e5%91%8a%e3%83%bb%e7%b4%8d%e4%bb%98%e6%9c%9f%e9%99%90/
CATEGORIES:諸税
END:VEVENT
BEGIN:VEVENT
DTSTART;TZID=Asia/Tokyo:20260302T000000
DTEND;TZID=Asia/Tokyo:20260302T235959
DTSTAMP:20260421T142414
CREATED:20241031T234058Z
LAST-MODIFIED:20241031T234058Z
UID:723-1772409600-1772495999@miyakojima.jp
SUMMARY:12月決算法人　法人市民税申告・納付期限
DESCRIPTION:
URL:https://miyakojima.jp/tax/event/12%e6%9c%88%e6%b1%ba%e7%ae%97%e6%b3%95%e4%ba%ba%e3%80%80%e6%b3%95%e4%ba%ba%e5%b8%82%e6%b0%91%e7%a8%8e%e7%94%b3%e5%91%8a%e3%83%bb%e7%b4%8d%e4%bb%98%e6%9c%9f%e9%99%90-2/
CATEGORIES:諸税
END:VEVENT
BEGIN:VEVENT
DTSTART;TZID=Asia/Tokyo:20260202T000000
DTEND;TZID=Asia/Tokyo:20260202T235959
DTSTAMP:20260421T142414
CREATED:20241031T234102Z
LAST-MODIFIED:20241031T234102Z
UID:722-1769990400-1770076799@miyakojima.jp
SUMMARY:11月決算法人　法人市民税申告・納付期限
DESCRIPTION:
URL:https://miyakojima.jp/tax/event/11%e6%9c%88%e6%b1%ba%e7%ae%97%e6%b3%95%e4%ba%ba%e3%80%80%e6%b3%95%e4%ba%ba%e5%b8%82%e6%b0%91%e7%a8%8e%e7%94%b3%e5%91%8a%e3%83%bb%e7%b4%8d%e4%bb%98%e6%9c%9f%e9%99%90-2/
CATEGORIES:諸税
END:VEVENT
BEGIN:VEVENT
DTSTART;TZID=Asia/Tokyo:20260105T000000
DTEND;TZID=Asia/Tokyo:20260105T235959
DTSTAMP:20260421T142414
CREATED:20241031T234104Z
LAST-MODIFIED:20241031T234104Z
UID:721-1767571200-1767657599@miyakojima.jp
SUMMARY:10月決算法人　法人市民税申告・納付期限
DESCRIPTION:
URL:https://miyakojima.jp/tax/event/10%e6%9c%88%e6%b1%ba%e7%ae%97%e6%b3%95%e4%ba%ba%e3%80%80%e6%b3%95%e4%ba%ba%e5%b8%82%e6%b0%91%e7%a8%8e%e7%94%b3%e5%91%8a%e3%83%bb%e7%b4%8d%e4%bb%98%e6%9c%9f%e9%99%90-2/
CATEGORIES:諸税
END:VEVENT
BEGIN:VEVENT
DTSTART;TZID=Asia/Tokyo:20251201T000000
DTEND;TZID=Asia/Tokyo:20251201T235959
DTSTAMP:20260421T142414
CREATED:20241031T234105Z
LAST-MODIFIED:20241031T234105Z
UID:720-1764547200-1764633599@miyakojima.jp
SUMMARY:9月決算法人　法人市民税申告・納付期限
DESCRIPTION:
URL:https://miyakojima.jp/tax/event/9%e6%9c%88%e6%b1%ba%e7%ae%97%e6%b3%95%e4%ba%ba%e3%80%80%e6%b3%95%e4%ba%ba%e5%b8%82%e6%b0%91%e7%a8%8e%e7%94%b3%e5%91%8a%e3%83%bb%e7%b4%8d%e4%bb%98%e6%9c%9f%e9%99%90-2/
CATEGORIES:諸税
END:VEVENT
BEGIN:VEVENT
DTSTART;TZID=Asia/Tokyo:20251031T000000
DTEND;TZID=Asia/Tokyo:20251031T235959
DTSTAMP:20260421T142414
CREATED:20241031T234107Z
LAST-MODIFIED:20241031T234107Z
UID:719-1761868800-1761955199@miyakojima.jp
SUMMARY:8月決算法人　法人市民税申告・納付期限
DESCRIPTION:
URL:https://miyakojima.jp/tax/event/8%e6%9c%88%e6%b1%ba%e7%ae%97%e6%b3%95%e4%ba%ba%e3%80%80%e6%b3%95%e4%ba%ba%e5%b8%82%e6%b0%91%e7%a8%8e%e7%94%b3%e5%91%8a%e3%83%bb%e7%b4%8d%e4%bb%98%e6%9c%9f%e9%99%90-2/
CATEGORIES:諸税
END:VEVENT
BEGIN:VEVENT
DTSTART;TZID=Asia/Tokyo:20250930T000000
DTEND;TZID=Asia/Tokyo:20250930T235959
DTSTAMP:20260421T142414
CREATED:20241031T234107Z
LAST-MODIFIED:20241031T234107Z
UID:717-1759190400-1759276799@miyakojima.jp
SUMMARY:7月決算法人　法人市民税申告・納付期限
DESCRIPTION:
URL:https://miyakojima.jp/tax/event/7%e6%9c%88%e6%b1%ba%e7%ae%97%e6%b3%95%e4%ba%ba%e3%80%80%e6%b3%95%e4%ba%ba%e5%b8%82%e6%b0%91%e7%a8%8e%e7%94%b3%e5%91%8a%e3%83%bb%e7%b4%8d%e4%bb%98%e6%9c%9f%e9%99%90/
CATEGORIES:諸税
END:VEVENT
BEGIN:VEVENT
DTSTART;TZID=Asia/Tokyo:20250901T000000
DTEND;TZID=Asia/Tokyo:20250901T235959
DTSTAMP:20260421T142414
CREATED:20241031T234108Z
LAST-MODIFIED:20241031T234108Z
UID:716-1756684800-1756771199@miyakojima.jp
SUMMARY:6月決算法人　法人市民税申告・納付期限
DESCRIPTION:
URL:https://miyakojima.jp/tax/event/6%e6%9c%88%e6%b1%ba%e7%ae%97%e6%b3%95%e4%ba%ba%e3%80%80%e6%b3%95%e4%ba%ba%e5%b8%82%e6%b0%91%e7%a8%8e%e7%94%b3%e5%91%8a%e3%83%bb%e7%b4%8d%e4%bb%98%e6%9c%9f%e9%99%90/
CATEGORIES:諸税
END:VEVENT
BEGIN:VEVENT
DTSTART;TZID=Asia/Tokyo:20250731T000000
DTEND;TZID=Asia/Tokyo:20250731T235959
DTSTAMP:20260421T142414
CREATED:20241031T234109Z
LAST-MODIFIED:20241031T234109Z
UID:715-1753920000-1754006399@miyakojima.jp
SUMMARY:5月決算法人　法人市民税申告・納付期限
DESCRIPTION:
URL:https://miyakojima.jp/tax/event/5%e6%9c%88%e6%b1%ba%e7%ae%97%e6%b3%95%e4%ba%ba%e3%80%80%e6%b3%95%e4%ba%ba%e5%b8%82%e6%b0%91%e7%a8%8e%e7%94%b3%e5%91%8a%e3%83%bb%e7%b4%8d%e4%bb%98%e6%9c%9f%e9%99%90/
CATEGORIES:諸税
END:VEVENT
BEGIN:VEVENT
DTSTART;TZID=Asia/Tokyo:20250630T000000
DTEND;TZID=Asia/Tokyo:20250630T235959
DTSTAMP:20260421T142414
CREATED:20241031T234111Z
LAST-MODIFIED:20241031T234111Z
UID:714-1751241600-1751327999@miyakojima.jp
SUMMARY:4月決算法人　法人市民税申告・納付期限
DESCRIPTION:
URL:https://miyakojima.jp/tax/event/4%e6%9c%88%e6%b1%ba%e7%ae%97%e6%b3%95%e4%ba%ba%e3%80%80%e6%b3%95%e4%ba%ba%e5%b8%82%e6%b0%91%e7%a8%8e%e7%94%b3%e5%91%8a%e3%83%bb%e7%b4%8d%e4%bb%98%e6%9c%9f%e9%99%90/
CATEGORIES:諸税
END:VEVENT
BEGIN:VEVENT
DTSTART;TZID=Asia/Tokyo:20250602T000000
DTEND;TZID=Asia/Tokyo:20250602T235959
DTSTAMP:20260421T142414
CREATED:20241031T234112Z
LAST-MODIFIED:20241031T234112Z
UID:726-1748822400-1748908799@miyakojima.jp
SUMMARY:令和７年度軽自動車税（種別割）減免申請期限
DESCRIPTION:
URL:https://miyakojima.jp/tax/event/%e4%bb%a4%e5%92%8c%ef%bc%97%e5%b9%b4%e5%ba%a6%e8%bb%bd%e8%87%aa%e5%8b%95%e8%bb%8a%e7%a8%8e%ef%bc%88%e7%a8%ae%e5%88%a5%e5%89%b2%ef%bc%89%e6%b8%9b%e5%85%8d%e7%94%b3%e8%ab%8b%e6%9c%9f%e9%99%90/
CATEGORIES:諸税
END:VEVENT
BEGIN:VEVENT
DTSTART;TZID=Asia/Tokyo:20250602T000000
DTEND;TZID=Asia/Tokyo:20250602T235959
DTSTAMP:20260421T142414
CREATED:20241031T234112Z
LAST-MODIFIED:20241031T234112Z
UID:713-1748822400-1748908799@miyakojima.jp
SUMMARY:3月決算法人　法人市民税申告・納付期限
DESCRIPTION:
URL:https://miyakojima.jp/tax/event/3%e6%9c%88%e6%b1%ba%e7%ae%97%e6%b3%95%e4%ba%ba%e3%80%80%e6%b3%95%e4%ba%ba%e5%b8%82%e6%b0%91%e7%a8%8e%e7%94%b3%e5%91%8a%e3%83%bb%e7%b4%8d%e4%bb%98%e6%9c%9f%e9%99%90/
CATEGORIES:諸税
END:VEVENT
BEGIN:VEVENT
DTSTART;TZID=Asia/Tokyo:20250602T000000
DTEND;TZID=Asia/Tokyo:20250602T235959
DTSTAMP:20260421T142414
CREATED:20241031T234112Z
LAST-MODIFIED:20241031T234112Z
UID:725-1748822400-1748908799@miyakojima.jp
SUMMARY:令和7年度軽自動車税（種別割）納付期限
DESCRIPTION:
URL:https://miyakojima.jp/tax/event/%e4%bb%a4%e5%92%8c7%e5%b9%b4%e5%ba%a6%e8%bb%bd%e8%87%aa%e5%8b%95%e8%bb%8a%e7%a8%8e%ef%bc%88%e7%a8%ae%e5%88%a5%e5%89%b2%ef%bc%89%e7%b4%8d%e4%bb%98%e6%9c%9f%e9%99%90/
CATEGORIES:諸税
END:VEVENT
BEGIN:VEVENT
DTSTART;TZID=Asia/Tokyo:20250430T000000
DTEND;TZID=Asia/Tokyo:20250430T235959
DTSTAMP:20260421T142414
CREATED:20241031T234114Z
LAST-MODIFIED:20241031T234114Z
UID:712-1745971200-1746057599@miyakojima.jp
SUMMARY:2月決算法人　法人市民税申告・納付期限
DESCRIPTION:
URL:https://miyakojima.jp/tax/event/2%e6%9c%88%e6%b1%ba%e7%ae%97%e6%b3%95%e4%ba%ba%e3%80%80%e6%b3%95%e4%ba%ba%e5%b8%82%e6%b0%91%e7%a8%8e%e7%94%b3%e5%91%8a%e3%83%bb%e7%b4%8d%e4%bb%98%e6%9c%9f%e9%99%90/
CATEGORIES:諸税
END:VEVENT
BEGIN:VEVENT
DTSTART;TZID=Asia/Tokyo:20250331T000000
DTEND;TZID=Asia/Tokyo:20250331T235959
DTSTAMP:20260421T142414
CREATED:20241031T234115Z
LAST-MODIFIED:20241031T234115Z
UID:711-1743379200-1743465599@miyakojima.jp
SUMMARY:1月決算法人　法人市民税申告・納付期限
DESCRIPTION:
URL:https://miyakojima.jp/tax/event/1%e6%9c%88%e6%b1%ba%e7%ae%97%e6%b3%95%e4%ba%ba%e3%80%80%e6%b3%95%e4%ba%ba%e5%b8%82%e6%b0%91%e7%a8%8e%e7%94%b3%e5%91%8a%e3%83%bb%e7%b4%8d%e4%bb%98%e6%9c%9f%e9%99%90-2/
CATEGORIES:諸税
END:VEVENT
BEGIN:VEVENT
DTSTART;TZID=Asia/Tokyo:20250228T000000
DTEND;TZID=Asia/Tokyo:20250228T235959
DTSTAMP:20260421T142414
CREATED:20241031T234048Z
LAST-MODIFIED:20241031T234048Z
UID:710-1740700800-1740787199@miyakojima.jp
SUMMARY:12月決算法人　法人市民税申告・納付期限
DESCRIPTION:
URL:https://miyakojima.jp/tax/event/12%e6%9c%88%e6%b1%ba%e7%ae%97%e6%b3%95%e4%ba%ba%e3%80%80%e6%b3%95%e4%ba%ba%e5%b8%82%e6%b0%91%e7%a8%8e%e7%94%b3%e5%91%8a%e3%83%bb%e7%b4%8d%e4%bb%98%e6%9c%9f%e9%99%90/
CATEGORIES:諸税
END:VEVENT
BEGIN:VEVENT
DTSTART;TZID=Asia/Tokyo:20250131T000000
DTEND;TZID=Asia/Tokyo:20250131T235959
DTSTAMP:20260421T142414
CREATED:20241031T234053Z
LAST-MODIFIED:20241031T234053Z
UID:709-1738281600-1738367999@miyakojima.jp
SUMMARY:11月決算法人　法人市民税申告・納付期限
DESCRIPTION:
URL:https://miyakojima.jp/tax/event/11%e6%9c%88%e6%b1%ba%e7%ae%97%e6%b3%95%e4%ba%ba%e3%80%80%e6%b3%95%e4%ba%ba%e5%b8%82%e6%b0%91%e7%a8%8e%e7%94%b3%e5%91%8a%e3%83%bb%e7%b4%8d%e4%bb%98%e6%9c%9f%e9%99%90/
CATEGORIES:諸税
END:VEVENT
BEGIN:VEVENT
DTSTART;TZID=Asia/Tokyo:20250106T000000
DTEND;TZID=Asia/Tokyo:20250106T235959
DTSTAMP:20260421T142414
CREATED:20241031T234055Z
LAST-MODIFIED:20241031T234055Z
UID:708-1736121600-1736207999@miyakojima.jp
SUMMARY:10月決算法人　法人市民税申告・納付期限
DESCRIPTION:
URL:https://miyakojima.jp/tax/event/10%e6%9c%88%e6%b1%ba%e7%ae%97%e6%b3%95%e4%ba%ba%e3%80%80%e6%b3%95%e4%ba%ba%e5%b8%82%e6%b0%91%e7%a8%8e%e7%94%b3%e5%91%8a%e3%83%bb%e7%b4%8d%e4%bb%98%e6%9c%9f%e9%99%90/
CATEGORIES:諸税
END:VEVENT
BEGIN:VEVENT
DTSTART;TZID=Asia/Tokyo:20241202T000000
DTEND;TZID=Asia/Tokyo:20241202T235959
DTSTAMP:20260421T142414
CREATED:20241031T234055Z
LAST-MODIFIED:20241031T234055Z
UID:707-1733097600-1733183999@miyakojima.jp
SUMMARY:9月決算法人　法人市民税申告・納付期限
DESCRIPTION:
URL:https://miyakojima.jp/tax/event/9%e6%9c%88%e6%b1%ba%e7%ae%97%e6%b3%95%e4%ba%ba%e3%80%80%e6%b3%95%e4%ba%ba%e5%b8%82%e6%b0%91%e7%a8%8e%e7%94%b3%e5%91%8a%e3%83%bb%e7%b4%8d%e4%bb%98%e6%9c%9f%e9%99%90/
CATEGORIES:諸税
END:VEVENT
BEGIN:VEVENT
DTSTART;TZID=Asia/Tokyo:20241031T000000
DTEND;TZID=Asia/Tokyo:20241031T235959
DTSTAMP:20260421T142414
CREATED:20241031T234056Z
LAST-MODIFIED:20241031T234056Z
UID:706-1730332800-1730419199@miyakojima.jp
SUMMARY:8月決算法人　法人市民税申告・納付期限
DESCRIPTION:
URL:https://miyakojima.jp/tax/event/8%e6%9c%88%e6%b1%ba%e7%ae%97%e6%b3%95%e4%ba%ba%e3%80%80%e6%b3%95%e4%ba%ba%e5%b8%82%e6%b0%91%e7%a8%8e%e7%94%b3%e5%91%8a%e3%83%bb%e7%b4%8d%e4%bb%98%e6%9c%9f%e9%99%90/
CATEGORIES:諸税
END:VEVENT
END:VCALENDAR