BEGIN:VCALENDAR
VERSION:2.0
PRODID:-//宮古島「税」のカレンダー - ECPv6.8.3//NONSGML v1.0//EN
CALSCALE:GREGORIAN
METHOD:PUBLISH
X-WR-CALNAME:宮古島「税」のカレンダー
X-ORIGINAL-URL:https://miyakojima.jp/tax
X-WR-CALDESC:宮古島「税」のカレンダー のイベント
REFRESH-INTERVAL;VALUE=DURATION:PT1H
X-Robots-Tag:noindex
X-PUBLISHED-TTL:PT1H
BEGIN:VTIMEZONE
TZID:Asia/Tokyo
BEGIN:STANDARD
TZOFFSETFROM:+0900
TZOFFSETTO:+0900
TZNAME:JST
DTSTART:20250101T000000
END:STANDARD
END:VTIMEZONE
BEGIN:VEVENT
DTSTART;TZID=Asia/Tokyo:20260202T000000
DTEND;TZID=Asia/Tokyo:20260202T235959
DTSTAMP:20260421T083158
CREATED:20241031T234101Z
LAST-MODIFIED:20241031T234101Z
UID:693-1769990400-1770076799@miyakojima.jp
SUMMARY:令和8年度（令和7年分）市・県民税申告受付（受付地区未定）
DESCRIPTION:※ 受付時間 午前 9：00 ～ 11：30　午後 13：00 ～ 16：45
URL:https://miyakojima.jp/tax/event/%e4%bb%a4%e5%92%8c8%e5%b9%b4%e5%ba%a6%ef%bc%88%e4%bb%a4%e5%92%8c7%e5%b9%b4%e5%88%86%ef%bc%89%e5%b8%82%e3%83%bb%e7%9c%8c%e6%b0%91%e7%a8%8e%e7%94%b3%e5%91%8a%e5%8f%97%e4%bb%98%ef%bc%88%e5%8f%97-5/
CATEGORIES:市民税
END:VEVENT
BEGIN:VEVENT
DTSTART;TZID=Asia/Tokyo:20260202T000000
DTEND;TZID=Asia/Tokyo:20260202T235959
DTSTAMP:20260421T083158
CREATED:20241031T234101Z
LAST-MODIFIED:20241031T234101Z
UID:694-1769990400-1770076799@miyakojima.jp
SUMMARY:令和7年度 市・県民税第4期納期限（普通庁中：本人納付分）
DESCRIPTION:
URL:https://miyakojima.jp/tax/event/%e4%bb%a4%e5%92%8c7%e5%b9%b4%e5%ba%a6-%e5%b8%82%e3%83%bb%e7%9c%8c%e6%b0%91%e7%a8%8e%e7%ac%ac4%e6%9c%9f%e7%b4%8d%e6%9c%9f%e9%99%90%ef%bc%88%e6%99%ae%e9%80%9a%e5%ba%81%e4%b8%ad%ef%bc%9a%e6%9c%ac/
CATEGORIES:市民税
END:VEVENT
BEGIN:VEVENT
DTSTART;TZID=Asia/Tokyo:20260202T000000
DTEND;TZID=Asia/Tokyo:20260202T235959
DTSTAMP:20260421T083158
CREATED:20241031T012945Z
LAST-MODIFIED:20241031T012945Z
UID:506-1769990400-1770076799@miyakojima.jp
SUMMARY:法定調書の提出期限
DESCRIPTION:本日は、給与所得の源泉徴収票などの法定調書の提出期限です。
URL:https://miyakojima.jp/tax/event/%e6%b3%95%e5%ae%9a%e8%aa%bf%e6%9b%b8%e3%81%ae%e6%8f%90%e5%87%ba%e6%9c%9f%e9%99%90-2/
CATEGORIES:源泉所得税
END:VEVENT
BEGIN:VEVENT
DTSTART;TZID=Asia/Tokyo:20260202T000000
DTEND;TZID=Asia/Tokyo:20260202T235959
DTSTAMP:20260421T083158
CREATED:20241030T142335Z
LAST-MODIFIED:20241030T142335Z
UID:505-1769990400-1770076799@miyakojima.jp
SUMMARY:11月決算法人の法人税・消費税申告期限
DESCRIPTION:本日は、11月決算法人の法人税及び地方法人税、消費税及び地方消費税の確定申告期限です。
URL:https://miyakojima.jp/tax/event/11%e6%9c%88%e6%b1%ba%e7%ae%97%e6%b3%95%e4%ba%ba%e3%81%ae%e6%b3%95%e4%ba%ba%e7%a8%8e%e3%83%bb%e6%b6%88%e8%b2%bb%e7%a8%8e%e7%94%b3%e5%91%8a%e6%9c%9f%e9%99%90/
CATEGORIES:法人税・消費税
END:VEVENT
BEGIN:VEVENT
DTSTART;TZID=Asia/Tokyo:20260130T000000
DTEND;TZID=Asia/Tokyo:20260130T235959
DTSTAMP:20260421T083158
CREATED:20241031T234102Z
LAST-MODIFIED:20241031T234102Z
UID:692-1769731200-1769817599@miyakojima.jp
SUMMARY:令和8年度（令和7年分）給与支払報告書提出締め切り日
DESCRIPTION:
URL:https://miyakojima.jp/tax/event/%e4%bb%a4%e5%92%8c8%e5%b9%b4%e5%ba%a6%ef%bc%88%e4%bb%a4%e5%92%8c7%e5%b9%b4%e5%88%86%ef%bc%89%e7%b5%a6%e4%b8%8e%e6%94%af%e6%89%95%e5%a0%b1%e5%91%8a%e6%9b%b8%e6%8f%90%e5%87%ba%e7%b7%a0%e3%82%81%e5%88%87/
CATEGORIES:市民税
END:VEVENT
BEGIN:VEVENT
DTSTART;TZID=Asia/Tokyo:20260126T000000
DTEND;TZID=Asia/Tokyo:20260130T235959
DTSTAMP:20260421T083158
CREATED:20241031T234102Z
LAST-MODIFIED:20241031T234102Z
UID:740-1769385600-1769817599@miyakojima.jp
SUMMARY:令和8年度（令和7年分）償却資産申告受付（市役所）
DESCRIPTION:
URL:https://miyakojima.jp/tax/event/%e4%bb%a4%e5%92%8c8%e5%b9%b4%e5%ba%a6%ef%bc%88%e4%bb%a4%e5%92%8c7%e5%b9%b4%e5%88%86%ef%bc%89%e5%84%9f%e5%8d%b4%e8%b3%87%e7%94%a3%e7%94%b3%e5%91%8a%e5%8f%97%e4%bb%98%ef%bc%88%e5%b8%82%e5%bd%b9%e6%89%80/
CATEGORIES:資産税
END:VEVENT
BEGIN:VEVENT
DTSTART;TZID=Asia/Tokyo:20260120T000000
DTEND;TZID=Asia/Tokyo:20260120T235959
DTSTAMP:20260421T083158
CREATED:20241031T012945Z
LAST-MODIFIED:20241031T012945Z
UID:504-1768867200-1768953599@miyakojima.jp
SUMMARY:納期の特例（７～12月分源泉所得税）の納付期限
DESCRIPTION:本日は、令和７年７月～12月分の源泉所得税及び復興特別所得税について、納期の特例を受けている方の納付期限です。 \n\n\n\n源泉所得税及び復興特別所得税の納付期限と納期の特例
URL:https://miyakojima.jp/tax/event/%e7%b4%8d%e6%9c%9f%e3%81%ae%e7%89%b9%e4%be%8b%ef%bc%88%ef%bc%97%ef%bd%9e12%e6%9c%88%e5%88%86%e6%ba%90%e6%b3%89%e6%89%80%e5%be%97%e7%a8%8e%ef%bc%89%e3%81%ae%e7%b4%8d%e4%bb%98%e6%9c%9f%e9%99%90-2/
CATEGORIES:源泉所得税
END:VEVENT
BEGIN:VEVENT
DTSTART;TZID=Asia/Tokyo:20260119T000000
DTEND;TZID=Asia/Tokyo:20260123T235959
DTSTAMP:20260421T083158
CREATED:20241031T234103Z
LAST-MODIFIED:20241031T234103Z
UID:739-1768780800-1769212799@miyakojima.jp
SUMMARY:令和8年度（令和7年分）償却資産申告受付（市役所）
DESCRIPTION:
URL:https://miyakojima.jp/tax/event/%e4%bb%a4%e5%92%8c8%e5%b9%b4%e5%ba%a6%ef%bc%88%e4%bb%a4%e5%92%8c7%e5%b9%b4%e5%88%86%ef%bc%89%e5%84%9f%e5%8d%b4%e8%b3%87%e7%94%a3%e7%94%b3%e5%91%8a%e5%8f%97%e4%bb%98%ef%bc%88%e5%b8%82%e5%bd%b9-2/
CATEGORIES:資産税
END:VEVENT
BEGIN:VEVENT
DTSTART;TZID=Asia/Tokyo:20260113T000000
DTEND;TZID=Asia/Tokyo:20260116T235959
DTSTAMP:20260421T083158
CREATED:20241031T234103Z
LAST-MODIFIED:20241031T234103Z
UID:738-1768262400-1768607999@miyakojima.jp
SUMMARY:令和8年度（令和7年分）償却資産申告受付（市役所）
DESCRIPTION:
URL:https://miyakojima.jp/tax/event/%e4%bb%a4%e5%92%8c8%e5%b9%b4%e5%ba%a6%ef%bc%88%e4%bb%a4%e5%92%8c7%e5%b9%b4%e5%88%86%ef%bc%89%e5%84%9f%e5%8d%b4%e8%b3%87%e7%94%a3%e7%94%b3%e5%91%8a%e5%8f%97%e4%bb%98%ef%bc%88%e5%b8%82%e5%bd%b9-3/
CATEGORIES:資産税
END:VEVENT
BEGIN:VEVENT
DTSTART;TZID=Asia/Tokyo:20260113T000000
DTEND;TZID=Asia/Tokyo:20260113T235959
DTSTAMP:20260421T083158
CREATED:20241031T234103Z
LAST-MODIFIED:20241031T234103Z
UID:691-1768262400-1768348799@miyakojima.jp
SUMMARY:令和7年度 市・県民税12月分納期限（特別徴収：事業所納付分）
DESCRIPTION:
URL:https://miyakojima.jp/tax/event/%e4%bb%a4%e5%92%8c7%e5%b9%b4%e5%ba%a6-%e5%b8%82%e3%83%bb%e7%9c%8c%e6%b0%91%e7%a8%8e12%e6%9c%88%e5%88%86%e7%b4%8d%e6%9c%9f%e9%99%90%ef%bc%88%e7%89%b9%e5%88%a5%e5%be%b4%e5%8f%8e%ef%bc%9a%e4%ba%8b/
CATEGORIES:市民税
END:VEVENT
BEGIN:VEVENT
DTSTART;TZID=Asia/Tokyo:20260113T000000
DTEND;TZID=Asia/Tokyo:20260113T235959
DTSTAMP:20260421T083158
CREATED:20241031T012944Z
LAST-MODIFIED:20241031T012944Z
UID:503-1768262400-1768348799@miyakojima.jp
SUMMARY:12月分源泉所得税の納付期限
DESCRIPTION:本日は、令和７年12月分の源泉所得税及び復興特別所得税の納付期限です。 \n\n\n\n源泉所得税及び復興特別所得税の納付期限と納期の特例
URL:https://miyakojima.jp/tax/event/12%e6%9c%88%e5%88%86%e6%ba%90%e6%b3%89%e6%89%80%e5%be%97%e7%a8%8e%e3%81%ae%e7%b4%8d%e4%bb%98%e6%9c%9f%e9%99%90-2/
CATEGORIES:源泉所得税
END:VEVENT
BEGIN:VEVENT
DTSTART;TZID=Asia/Tokyo:20260105T000000
DTEND;TZID=Asia/Tokyo:20260109T235959
DTSTAMP:20260421T083158
CREATED:20241031T234104Z
LAST-MODIFIED:20241031T234104Z
UID:737-1767571200-1768003199@miyakojima.jp
SUMMARY:令和8年度（令和7年分）償却資産申告受付（市役所）
DESCRIPTION:
URL:https://miyakojima.jp/tax/event/%e4%bb%a4%e5%92%8c8%e5%b9%b4%e5%ba%a6%ef%bc%88%e4%bb%a4%e5%92%8c7%e5%b9%b4%e5%88%86%ef%bc%89%e5%84%9f%e5%8d%b4%e8%b3%87%e7%94%a3%e7%94%b3%e5%91%8a%e5%8f%97%e4%bb%98%ef%bc%88%e5%b8%82%e5%bd%b9-4/
CATEGORIES:資産税
END:VEVENT
BEGIN:VEVENT
DTSTART;TZID=Asia/Tokyo:20260105T000000
DTEND;TZID=Asia/Tokyo:20260105T235959
DTSTAMP:20260421T083158
CREATED:20241111T072758Z
LAST-MODIFIED:20241111T072825Z
UID:1014-1767571200-1767657599@miyakojima.jp
SUMMARY:10月決算法人　法人県民税・法人事業税等確定申告・納付期限
DESCRIPTION:本日は10月決算法人の法人県民税・法人事業税等確定申告・納付期限です。 \n\n\n\n宮古事務所県税課_法人県民税・法人事業税のお知らせ
URL:https://miyakojima.jp/tax/event/10%e6%9c%88%e6%b1%ba%e7%ae%97%e6%b3%95%e4%ba%ba%e3%80%80%e6%b3%95%e4%ba%ba%e7%9c%8c%e6%b0%91%e7%a8%8e%e3%83%bb%e6%b3%95%e4%ba%ba%e4%ba%8b%e6%a5%ad%e7%a8%8e%e7%ad%89%e7%a2%ba%e5%ae%9a%e7%94%b3%e5%91%8a/
CATEGORIES:法人県民税・法人事業税
END:VEVENT
BEGIN:VEVENT
DTSTART;TZID=Asia/Tokyo:20260105T000000
DTEND;TZID=Asia/Tokyo:20260105T235959
DTSTAMP:20260421T083158
CREATED:20241031T234104Z
LAST-MODIFIED:20241031T234104Z
UID:721-1767571200-1767657599@miyakojima.jp
SUMMARY:10月決算法人　法人市民税申告・納付期限
DESCRIPTION:
URL:https://miyakojima.jp/tax/event/10%e6%9c%88%e6%b1%ba%e7%ae%97%e6%b3%95%e4%ba%ba%e3%80%80%e6%b3%95%e4%ba%ba%e5%b8%82%e6%b0%91%e7%a8%8e%e7%94%b3%e5%91%8a%e3%83%bb%e7%b4%8d%e4%bb%98%e6%9c%9f%e9%99%90-2/
CATEGORIES:諸税
END:VEVENT
BEGIN:VEVENT
DTSTART;TZID=Asia/Tokyo:20260105T000000
DTEND;TZID=Asia/Tokyo:20260105T235959
DTSTAMP:20260421T083158
CREATED:20241030T142335Z
LAST-MODIFIED:20241030T142335Z
UID:502-1767571200-1767657599@miyakojima.jp
SUMMARY:10月決算法人の法人税・消費税申告期限
DESCRIPTION:本日は、10月決算法人の法人税及び地方法人税、消費税及び地方消費税の確定申告期限です。
URL:https://miyakojima.jp/tax/event/10%e6%9c%88%e6%b1%ba%e7%ae%97%e6%b3%95%e4%ba%ba%e3%81%ae%e6%b3%95%e4%ba%ba%e7%a8%8e%e3%83%bb%e6%b6%88%e8%b2%bb%e7%a8%8e%e7%94%b3%e5%91%8a%e6%9c%9f%e9%99%90/
CATEGORIES:法人税・消費税
END:VEVENT
BEGIN:VEVENT
DTSTART;TZID=Asia/Tokyo:20251225T000000
DTEND;TZID=Asia/Tokyo:20251225T235959
DTSTAMP:20260421T083158
CREATED:20241031T234105Z
LAST-MODIFIED:20241031T234105Z
UID:730-1766620800-1766707199@miyakojima.jp
SUMMARY:令和7年度 固定資産税　第3期納期限
DESCRIPTION:
URL:https://miyakojima.jp/tax/event/%e4%bb%a4%e5%92%8c7%e5%b9%b4%e5%ba%a6-%e5%9b%ba%e5%ae%9a%e8%b3%87%e7%94%a3%e7%a8%8e%e3%80%80%e7%ac%ac3%e6%9c%9f%e7%b4%8d%e6%9c%9f%e9%99%90/
CATEGORIES:資産税
END:VEVENT
BEGIN:VEVENT
DTSTART;TZID=Asia/Tokyo:20251210T000000
DTEND;TZID=Asia/Tokyo:20251210T235959
DTSTAMP:20260421T083158
CREATED:20241031T234105Z
LAST-MODIFIED:20241031T234105Z
UID:690-1765324800-1765411199@miyakojima.jp
SUMMARY:令和7年度 市・県民税11月分納期限（特別徴収：事業所納付分）
DESCRIPTION:
URL:https://miyakojima.jp/tax/event/%e4%bb%a4%e5%92%8c7%e5%b9%b4%e5%ba%a6-%e5%b8%82%e3%83%bb%e7%9c%8c%e6%b0%91%e7%a8%8e11%e6%9c%88%e5%88%86%e7%b4%8d%e6%9c%9f%e9%99%90%ef%bc%88%e7%89%b9%e5%88%a5%e5%be%b4%e5%8f%8e%ef%bc%9a%e4%ba%8b/
CATEGORIES:市民税
END:VEVENT
BEGIN:VEVENT
DTSTART;TZID=Asia/Tokyo:20251210T000000
DTEND;TZID=Asia/Tokyo:20251210T235959
DTSTAMP:20260421T083158
CREATED:20241030T142507Z
LAST-MODIFIED:20241030T142608Z
UID:501-1765324800-1765411199@miyakojima.jp
SUMMARY:11月分源泉所得税の納付期限
DESCRIPTION:本日は、令和７年11月分の源泉所得税及び復興特別所得税の納付期限です。 \n\n\n\n源泉所得税及び復興特別所得税の納付期限と納期の特例
URL:https://miyakojima.jp/tax/event/11%e6%9c%88%e5%88%86%e6%ba%90%e6%b3%89%e6%89%80%e5%be%97%e7%a8%8e%e3%81%ae%e7%b4%8d%e4%bb%98%e6%9c%9f%e9%99%90/
CATEGORIES:源泉所得税
END:VEVENT
BEGIN:VEVENT
DTSTART;TZID=Asia/Tokyo:20251201T000000
DTEND;TZID=Asia/Tokyo:20251201T235959
DTSTAMP:20260421T083158
CREATED:20250702T070058Z
LAST-MODIFIED:20250702T070059Z
UID:1290-1764547200-1764633599@miyakojima.jp
SUMMARY:予定納税（所得税等）第２期納期限
DESCRIPTION:詳細はコチラ
URL:https://miyakojima.jp/tax/event/%e4%ba%88%e5%ae%9a%e7%b4%8d%e7%a8%8e%ef%bc%88%e6%89%80%e5%be%97%e7%a8%8e%e7%ad%89%ef%bc%89%e7%ac%ac%ef%bc%92%e6%9c%9f%e7%b4%8d%e6%9c%9f%e9%99%90/
CATEGORIES:所得税
END:VEVENT
BEGIN:VEVENT
DTSTART;TZID=Asia/Tokyo:20251201T000000
DTEND;TZID=Asia/Tokyo:20251201T235959
DTSTAMP:20260421T083158
CREATED:20241111T072805Z
LAST-MODIFIED:20241111T072825Z
UID:1020-1764547200-1764633599@miyakojima.jp
SUMMARY:個人事業税第二期分の納付について
DESCRIPTION:今年度、第2期分については、令和7年12月1日が納付期限となっております。
URL:https://miyakojima.jp/tax/event/%e5%80%8b%e4%ba%ba%e4%ba%8b%e6%a5%ad%e7%a8%8e%e7%ac%ac%e4%ba%8c%e6%9c%9f%e5%88%86%e3%81%ae%e7%b4%8d%e4%bb%98%e3%81%ab%e3%81%a4%e3%81%84%e3%81%a6/
CATEGORIES:個人事業税
END:VEVENT
BEGIN:VEVENT
DTSTART;TZID=Asia/Tokyo:20251201T000000
DTEND;TZID=Asia/Tokyo:20251201T235959
DTSTAMP:20260421T083158
CREATED:20241111T072758Z
LAST-MODIFIED:20241111T072825Z
UID:1013-1764547200-1764633599@miyakojima.jp
SUMMARY:9月決算法人　法人県民税・法人事業税等確定申告・納付期限
DESCRIPTION:本日は9月決算法人の法人県民税・法人事業税等確定申告・納付期限です。 \n\n\n\n宮古事務所県税課_法人県民税・法人事業税のお知らせ
URL:https://miyakojima.jp/tax/event/9%e6%9c%88%e6%b1%ba%e7%ae%97%e6%b3%95%e4%ba%ba%e3%80%80%e6%b3%95%e4%ba%ba%e7%9c%8c%e6%b0%91%e7%a8%8e%e3%83%bb%e6%b3%95%e4%ba%ba%e4%ba%8b%e6%a5%ad%e7%a8%8e%e7%ad%89%e7%a2%ba%e5%ae%9a%e7%94%b3%e5%91%8a/
CATEGORIES:法人県民税・法人事業税
END:VEVENT
BEGIN:VEVENT
DTSTART;TZID=Asia/Tokyo:20251201T000000
DTEND;TZID=Asia/Tokyo:20251201T235959
DTSTAMP:20260421T083158
CREATED:20241031T234105Z
LAST-MODIFIED:20241031T234105Z
UID:720-1764547200-1764633599@miyakojima.jp
SUMMARY:9月決算法人　法人市民税申告・納付期限
DESCRIPTION:
URL:https://miyakojima.jp/tax/event/9%e6%9c%88%e6%b1%ba%e7%ae%97%e6%b3%95%e4%ba%ba%e3%80%80%e6%b3%95%e4%ba%ba%e5%b8%82%e6%b0%91%e7%a8%8e%e7%94%b3%e5%91%8a%e3%83%bb%e7%b4%8d%e4%bb%98%e6%9c%9f%e9%99%90-2/
CATEGORIES:諸税
END:VEVENT
BEGIN:VEVENT
DTSTART;TZID=Asia/Tokyo:20251201T000000
DTEND;TZID=Asia/Tokyo:20251201T235959
DTSTAMP:20260421T083158
CREATED:20241030T142334Z
LAST-MODIFIED:20241030T142334Z
UID:500-1764547200-1764633599@miyakojima.jp
SUMMARY:９月決算法人の法人税・消費税申告期限
DESCRIPTION:本日は、９月決算法人の法人税及び地方法人税、消費税及び地方消費税の確定申告期限です。
URL:https://miyakojima.jp/tax/event/%ef%bc%99%e6%9c%88%e6%b1%ba%e7%ae%97%e6%b3%95%e4%ba%ba%e3%81%ae%e6%b3%95%e4%ba%ba%e7%a8%8e%e3%83%bb%e6%b6%88%e8%b2%bb%e7%a8%8e%e7%94%b3%e5%91%8a%e6%9c%9f%e9%99%90/
CATEGORIES:法人税・消費税
END:VEVENT
BEGIN:VEVENT
DTSTART;TZID=Asia/Tokyo:20251128T150000
DTEND;TZID=Asia/Tokyo:20251128T170000
DTSTAMP:20260421T083158
CREATED:20251017T071101Z
LAST-MODIFIED:20251017T071102Z
UID:1348-1764342000-1764349200@miyakojima.jp
SUMMARY:年末調整説明会
DESCRIPTION:宮古島税務署では、年末調整のしかたから基礎控除見直し等の税制改正事項等の説明会を開催致します。詳細は、「年末調整説明会 開催日日程等一覧表」をご確認ください。 \n\n\n\n年末調整説明会 開催日日程等一覧表
URL:https://miyakojima.jp/tax/event/%e5%b9%b4%e6%9c%ab%e8%aa%bf%e6%95%b4%e8%aa%ac%e6%98%8e%e4%bc%9a/
END:VEVENT
BEGIN:VEVENT
DTSTART;TZID=Asia/Tokyo:20251119T150000
DTEND;TZID=Asia/Tokyo:20251119T170000
DTSTAMP:20260421T083158
CREATED:20251017T071102Z
LAST-MODIFIED:20251017T071104Z
UID:1346-1763564400-1763571600@miyakojima.jp
SUMMARY:年末調整説明会
DESCRIPTION:宮古島税務署では、年末調整のしかたから基礎控除見直し等の税制改正事項等の説明会を開催致します。詳細は、「年末調整説明会 開催日日程等一覧表」をご確認ください。 \n\n\n\n年末調整説明会 開催日日程等一覧表
URL:https://miyakojima.jp/tax/event/%e5%b9%b4%e6%9c%ab%e8%aa%bf%e6%95%b4%e8%aa%ac%e6%98%8e%e4%bc%9a-2/
END:VEVENT
BEGIN:VEVENT
DTSTART;TZID=Asia/Tokyo:20251113T150000
DTEND;TZID=Asia/Tokyo:20251113T170000
DTSTAMP:20260421T083158
CREATED:20251017T071104Z
LAST-MODIFIED:20251017T071106Z
UID:1342-1763046000-1763053200@miyakojima.jp
SUMMARY:年末調整説明会
DESCRIPTION:宮古島税務署では、年末調整のしかたから基礎控除見直し等の税制改正事項等の説明会を開催致します。詳細は、「年末調整説明会 開催日日程等一覧表」をご確認ください。 \n\n\n\n年末調整説明会 開催日日程等一覧表
URL:https://miyakojima.jp/tax/event/%e5%b9%b4%e6%9c%ab%e8%aa%bf%e6%95%b4%e8%aa%ac%e6%98%8e%e4%bc%9a-3/
END:VEVENT
BEGIN:VEVENT
DTSTART;TZID=Asia/Tokyo:20251110T000000
DTEND;TZID=Asia/Tokyo:20251110T235959
DTSTAMP:20260421T083158
CREATED:20241031T234106Z
LAST-MODIFIED:20241031T234106Z
UID:689-1762732800-1762819199@miyakojima.jp
SUMMARY:令和7年度 市・県民税10月分納期限（特別徴収：事業所納付分）
DESCRIPTION:
URL:https://miyakojima.jp/tax/event/%e4%bb%a4%e5%92%8c7%e5%b9%b4%e5%ba%a6-%e5%b8%82%e3%83%bb%e7%9c%8c%e6%b0%91%e7%a8%8e10%e6%9c%88%e5%88%86%e7%b4%8d%e6%9c%9f%e9%99%90%ef%bc%88%e7%89%b9%e5%88%a5%e5%be%b4%e5%8f%8e%ef%bc%9a%e4%ba%8b/
CATEGORIES:市民税
END:VEVENT
BEGIN:VEVENT
DTSTART;TZID=Asia/Tokyo:20251110T000000
DTEND;TZID=Asia/Tokyo:20251110T235959
DTSTAMP:20260421T083158
CREATED:20241030T142507Z
LAST-MODIFIED:20241030T142607Z
UID:499-1762732800-1762819199@miyakojima.jp
SUMMARY:10月分源泉所得税の納付期限
DESCRIPTION:本日は、令和７年10月分の源泉所得税及び復興特別所得税の納付期限です。 \n\n\n\n源泉所得税及び復興特別所得税の納付期限と納期の特例
URL:https://miyakojima.jp/tax/event/10%e6%9c%88%e5%88%86%e6%ba%90%e6%b3%89%e6%89%80%e5%be%97%e7%a8%8e%e3%81%ae%e7%b4%8d%e4%bb%98%e6%9c%9f%e9%99%90/
CATEGORIES:源泉所得税
END:VEVENT
BEGIN:VEVENT
DTSTART;TZID=Asia/Tokyo:20251031T000000
DTEND;TZID=Asia/Tokyo:20251031T235959
DTSTAMP:20260421T083158
CREATED:20241111T072759Z
LAST-MODIFIED:20241111T072826Z
UID:1012-1761868800-1761955199@miyakojima.jp
SUMMARY:8月決算法人　法人県民税・法人事業税等確定申告・納付期限
DESCRIPTION:本日は8月決算法人の法人県民税・法人事業税等確定申告・納付期限です。 \n\n\n\n宮古事務所県税課_法人県民税・法人事業税のお知らせ
URL:https://miyakojima.jp/tax/event/8%e6%9c%88%e6%b1%ba%e7%ae%97%e6%b3%95%e4%ba%ba%e3%80%80%e6%b3%95%e4%ba%ba%e7%9c%8c%e6%b0%91%e7%a8%8e%e3%83%bb%e6%b3%95%e4%ba%ba%e4%ba%8b%e6%a5%ad%e7%a8%8e%e7%ad%89%e7%a2%ba%e5%ae%9a%e7%94%b3%e5%91%8a/
CATEGORIES:法人県民税・法人事業税
END:VEVENT
BEGIN:VEVENT
DTSTART;TZID=Asia/Tokyo:20251031T000000
DTEND;TZID=Asia/Tokyo:20251031T235959
DTSTAMP:20260421T083158
CREATED:20241031T234107Z
LAST-MODIFIED:20241031T234107Z
UID:719-1761868800-1761955199@miyakojima.jp
SUMMARY:8月決算法人　法人市民税申告・納付期限
DESCRIPTION:
URL:https://miyakojima.jp/tax/event/8%e6%9c%88%e6%b1%ba%e7%ae%97%e6%b3%95%e4%ba%ba%e3%80%80%e6%b3%95%e4%ba%ba%e5%b8%82%e6%b0%91%e7%a8%8e%e7%94%b3%e5%91%8a%e3%83%bb%e7%b4%8d%e4%bb%98%e6%9c%9f%e9%99%90-2/
CATEGORIES:諸税
END:VEVENT
END:VCALENDAR