BEGIN:VCALENDAR
VERSION:2.0
PRODID:-//宮古島「税」のカレンダー - ECPv6.8.3//NONSGML v1.0//EN
CALSCALE:GREGORIAN
METHOD:PUBLISH
X-WR-CALNAME:宮古島「税」のカレンダー
X-ORIGINAL-URL:https://miyakojima.jp/tax
X-WR-CALDESC:宮古島「税」のカレンダー のイベント
REFRESH-INTERVAL;VALUE=DURATION:PT1H
X-Robots-Tag:noindex
X-PUBLISHED-TTL:PT1H
BEGIN:VTIMEZONE
TZID:Asia/Tokyo
BEGIN:STANDARD
TZOFFSETFROM:+0900
TZOFFSETTO:+0900
TZNAME:JST
DTSTART:20250101T000000
END:STANDARD
END:VTIMEZONE
BEGIN:VEVENT
DTSTART;TZID=Asia/Tokyo:20250731T000000
DTEND;TZID=Asia/Tokyo:20250731T235959
DTSTAMP:20260421T134733
CREATED:20241031T234109Z
LAST-MODIFIED:20241031T234109Z
UID:715-1753920000-1754006399@miyakojima.jp
SUMMARY:5月決算法人　法人市民税申告・納付期限
DESCRIPTION:
URL:https://miyakojima.jp/tax/event/5%e6%9c%88%e6%b1%ba%e7%ae%97%e6%b3%95%e4%ba%ba%e3%80%80%e6%b3%95%e4%ba%ba%e5%b8%82%e6%b0%91%e7%a8%8e%e7%94%b3%e5%91%8a%e3%83%bb%e7%b4%8d%e4%bb%98%e6%9c%9f%e9%99%90/
CATEGORIES:諸税
END:VEVENT
BEGIN:VEVENT
DTSTART;TZID=Asia/Tokyo:20250731T000000
DTEND;TZID=Asia/Tokyo:20250731T235959
DTSTAMP:20260421T134733
CREATED:20241030T142333Z
LAST-MODIFIED:20241030T142333Z
UID:492-1753920000-1754006399@miyakojima.jp
SUMMARY:５月決算法人の法人税・消費税申告期限
DESCRIPTION:本日は、５月決算法人の法人税及び地方法人税、消費税及び地方消費税の確定申告期限です。
URL:https://miyakojima.jp/tax/event/%ef%bc%95%e6%9c%88%e6%b1%ba%e7%ae%97%e6%b3%95%e4%ba%ba%e3%81%ae%e6%b3%95%e4%ba%ba%e7%a8%8e%e3%83%bb%e6%b6%88%e8%b2%bb%e7%a8%8e%e7%94%b3%e5%91%8a%e6%9c%9f%e9%99%90/
CATEGORIES:法人税・消費税
END:VEVENT
BEGIN:VEVENT
DTSTART;TZID=Asia/Tokyo:20250710T000000
DTEND;TZID=Asia/Tokyo:20250710T235959
DTSTAMP:20260421T134733
CREATED:20241031T234110Z
LAST-MODIFIED:20241031T234110Z
UID:681-1752105600-1752191999@miyakojima.jp
SUMMARY:令和7年度 市・県民税6月分納期限（特別徴収：事業所納付分）
DESCRIPTION:
URL:https://miyakojima.jp/tax/event/%e4%bb%a4%e5%92%8c7%e5%b9%b4%e5%ba%a6-%e5%b8%82%e3%83%bb%e7%9c%8c%e6%b0%91%e7%a8%8e6%e6%9c%88%e5%88%86%e7%b4%8d%e6%9c%9f%e9%99%90%ef%bc%88%e7%89%b9%e5%88%a5%e5%be%b4%e5%8f%8e%ef%bc%9a%e4%ba%8b/
CATEGORIES:市民税
END:VEVENT
BEGIN:VEVENT
DTSTART;TZID=Asia/Tokyo:20250710T000000
DTEND;TZID=Asia/Tokyo:20250710T235959
DTSTAMP:20260421T134733
CREATED:20241030T142506Z
LAST-MODIFIED:20241030T142606Z
UID:491-1752105600-1752191999@miyakojima.jp
SUMMARY:納期の特例（１～６月分源泉所得税）の納付期限
DESCRIPTION:本日は、令和７年１月～６月分の源泉所得税及び復興特別所得税について、納期の特例を受けている方の納付期限です。 \n\n\n\n源泉所得税及び復興特別所得税の納付期限と納期の特例
URL:https://miyakojima.jp/tax/event/%e7%b4%8d%e6%9c%9f%e3%81%ae%e7%89%b9%e4%be%8b%ef%bc%88%ef%bc%91%ef%bd%9e%ef%bc%96%e6%9c%88%e5%88%86%e6%ba%90%e6%b3%89%e6%89%80%e5%be%97%e7%a8%8e%ef%bc%89%e3%81%ae%e7%b4%8d%e4%bb%98%e6%9c%9f%e9%99%90/
CATEGORIES:源泉所得税
END:VEVENT
BEGIN:VEVENT
DTSTART;TZID=Asia/Tokyo:20250710T000000
DTEND;TZID=Asia/Tokyo:20250710T235959
DTSTAMP:20260421T134733
CREATED:20241030T142505Z
LAST-MODIFIED:20241030T142605Z
UID:490-1752105600-1752191999@miyakojima.jp
SUMMARY:６月分源泉所得税の納付期限
DESCRIPTION:本日は、令和７年６月分の源泉所得税及び復興特別所得税の納付期限です。 \n\n\n\n源泉所得税及び復興特別所得税の納付期限と納期の特例
URL:https://miyakojima.jp/tax/event/%ef%bc%96%e6%9c%88%e5%88%86%e6%ba%90%e6%b3%89%e6%89%80%e5%be%97%e7%a8%8e%e3%81%ae%e7%b4%8d%e4%bb%98%e6%9c%9f%e9%99%90/
CATEGORIES:源泉所得税
END:VEVENT
BEGIN:VEVENT
DTSTART;TZID=Asia/Tokyo:20250630T000000
DTEND;TZID=Asia/Tokyo:20250630T235959
DTSTAMP:20260421T134733
CREATED:20241111T072800Z
LAST-MODIFIED:20241111T072828Z
UID:1008-1751241600-1751327999@miyakojima.jp
SUMMARY:4月決算法人　法人県民税・法人事業税等確定申告・納付期限
DESCRIPTION:本日は4月決算法人の法人県民税・法人事業税等確定申告・納付期限です。 \n\n\n\n宮古事務所県税課_法人県民税・法人事業税のお知らせ
URL:https://miyakojima.jp/tax/event/4%e6%9c%88%e6%b1%ba%e7%ae%97%e6%b3%95%e4%ba%ba%e3%80%80%e6%b3%95%e4%ba%ba%e7%9c%8c%e6%b0%91%e7%a8%8e%e3%83%bb%e6%b3%95%e4%ba%ba%e4%ba%8b%e6%a5%ad%e7%a8%8e%e7%ad%89%e7%a2%ba%e5%ae%9a%e7%94%b3%e5%91%8a/
CATEGORIES:法人県民税・法人事業税
END:VEVENT
BEGIN:VEVENT
DTSTART;TZID=Asia/Tokyo:20250630T000000
DTEND;TZID=Asia/Tokyo:20250630T235959
DTSTAMP:20260421T134733
CREATED:20241031T234111Z
LAST-MODIFIED:20241031T234111Z
UID:714-1751241600-1751327999@miyakojima.jp
SUMMARY:4月決算法人　法人市民税申告・納付期限
DESCRIPTION:
URL:https://miyakojima.jp/tax/event/4%e6%9c%88%e6%b1%ba%e7%ae%97%e6%b3%95%e4%ba%ba%e3%80%80%e6%b3%95%e4%ba%ba%e5%b8%82%e6%b0%91%e7%a8%8e%e7%94%b3%e5%91%8a%e3%83%bb%e7%b4%8d%e4%bb%98%e6%9c%9f%e9%99%90/
CATEGORIES:諸税
END:VEVENT
BEGIN:VEVENT
DTSTART;TZID=Asia/Tokyo:20250630T000000
DTEND;TZID=Asia/Tokyo:20250630T235959
DTSTAMP:20260421T134733
CREATED:20241031T234110Z
LAST-MODIFIED:20241031T234110Z
UID:680-1751241600-1751327999@miyakojima.jp
SUMMARY:令和7年度 市・県民税第1期納期限（普通徴収：本人納付分）
DESCRIPTION:
URL:https://miyakojima.jp/tax/event/%e4%bb%a4%e5%92%8c7%e5%b9%b4%e5%ba%a6-%e5%b8%82%e3%83%bb%e7%9c%8c%e6%b0%91%e7%a8%8e%e7%ac%ac1%e6%9c%9f%e7%b4%8d%e6%9c%9f%e9%99%90%ef%bc%88%e6%99%ae%e9%80%9a%e5%be%b4%e5%8f%8e%ef%bc%9a%e6%9c%ac/
CATEGORIES:市民税
END:VEVENT
BEGIN:VEVENT
DTSTART;TZID=Asia/Tokyo:20250630T000000
DTEND;TZID=Asia/Tokyo:20250630T235959
DTSTAMP:20260421T134733
CREATED:20241030T142333Z
LAST-MODIFIED:20241030T142333Z
UID:489-1751241600-1751327999@miyakojima.jp
SUMMARY:４月決算法人の法人税・消費税申告期限
DESCRIPTION:本日は、４月決算法人の法人税及び地方法人税、消費税及び地方消費税の確定申告期限です。
URL:https://miyakojima.jp/tax/event/%ef%bc%94%e6%9c%88%e6%b1%ba%e7%ae%97%e6%b3%95%e4%ba%ba%e3%81%ae%e6%b3%95%e4%ba%ba%e7%a8%8e%e3%83%bb%e6%b6%88%e8%b2%bb%e7%a8%8e%e7%94%b3%e5%91%8a%e6%9c%9f%e9%99%90/
CATEGORIES:法人税・消費税
END:VEVENT
BEGIN:VEVENT
DTSTART;TZID=Asia/Tokyo:20250610T000000
DTEND;TZID=Asia/Tokyo:20250610T235959
DTSTAMP:20260421T134733
CREATED:20241031T234111Z
LAST-MODIFIED:20241031T234111Z
UID:679-1749513600-1749599999@miyakojima.jp
SUMMARY:令和6年度 市・県民税5月分納期限（特別徴収：事業所納付分）
DESCRIPTION:
URL:https://miyakojima.jp/tax/event/%e4%bb%a4%e5%92%8c6%e5%b9%b4%e5%ba%a6-%e5%b8%82%e3%83%bb%e7%9c%8c%e6%b0%91%e7%a8%8e5%e6%9c%88%e5%88%86%e7%b4%8d%e6%9c%9f%e9%99%90%ef%bc%88%e7%89%b9%e5%88%a5%e5%be%b4%e5%8f%8e%ef%bc%9a%e4%ba%8b/
CATEGORIES:市民税
END:VEVENT
BEGIN:VEVENT
DTSTART;TZID=Asia/Tokyo:20250610T000000
DTEND;TZID=Asia/Tokyo:20250610T235959
DTSTAMP:20260421T134733
CREATED:20241030T142505Z
LAST-MODIFIED:20241030T142605Z
UID:488-1749513600-1749599999@miyakojima.jp
SUMMARY:５月分源泉所得税の納付期限
DESCRIPTION:本日は、令和７年５月分の源泉所得税及び復興特別所得税の納付期限です。 \n\n\n\n源泉所得税及び復興特別所得税の納付期限と納期の特例
URL:https://miyakojima.jp/tax/event/%ef%bc%95%e6%9c%88%e5%88%86%e6%ba%90%e6%b3%89%e6%89%80%e5%be%97%e7%a8%8e%e3%81%ae%e7%b4%8d%e4%bb%98%e6%9c%9f%e9%99%90/
CATEGORIES:源泉所得税
END:VEVENT
BEGIN:VEVENT
DTSTART;TZID=Asia/Tokyo:20250609T000000
DTEND;TZID=Asia/Tokyo:20250609T235959
DTSTAMP:20260421T134733
CREATED:20241031T234111Z
LAST-MODIFIED:20241031T234111Z
UID:678-1749427200-1749513599@miyakojima.jp
SUMMARY:令和7年度 市・県民税 普通徴収税額通知発送予定日（本人納付分）
DESCRIPTION:
URL:https://miyakojima.jp/tax/event/%e4%bb%a4%e5%92%8c7%e5%b9%b4%e5%ba%a6-%e5%b8%82%e3%83%bb%e7%9c%8c%e6%b0%91%e7%a8%8e-%e6%99%ae%e9%80%9a%e5%be%b4%e5%8f%8e%e7%a8%8e%e9%a1%8d%e9%80%9a%e7%9f%a5%e7%99%ba%e9%80%81%e4%ba%88%e5%ae%9a/
CATEGORIES:市民税
END:VEVENT
BEGIN:VEVENT
DTSTART;TZID=Asia/Tokyo:20250602T000000
DTEND;TZID=Asia/Tokyo:20250602T235959
DTSTAMP:20260421T134733
CREATED:20241111T072804Z
LAST-MODIFIED:20241111T072828Z
UID:1018-1748822400-1748908799@miyakojima.jp
SUMMARY:自動車税の納付について
DESCRIPTION:本日は、自動車税の納付期限です。
URL:https://miyakojima.jp/tax/event/%e8%87%aa%e5%8b%95%e8%bb%8a%e7%a8%8e%e3%81%ae%e7%b4%8d%e4%bb%98%e3%81%ab%e3%81%a4%e3%81%84%e3%81%a6/
CATEGORIES:自動車税
END:VEVENT
BEGIN:VEVENT
DTSTART;TZID=Asia/Tokyo:20250602T000000
DTEND;TZID=Asia/Tokyo:20250602T235959
DTSTAMP:20260421T134733
CREATED:20241111T072800Z
LAST-MODIFIED:20241111T072828Z
UID:1007-1748822400-1748908799@miyakojima.jp
SUMMARY:3月決算法人　法人県民税・法人事業税等確定申告・納付期限
DESCRIPTION:本日は3月決算法人の法人県民税・法人事業税等確定申告・納付期限です。 \n\n\n\n宮古事務所県税課_法人県民税・法人事業税のお知らせ
URL:https://miyakojima.jp/tax/event/3%e6%9c%88%e6%b1%ba%e7%ae%97%e6%b3%95%e4%ba%ba%e3%80%80%e6%b3%95%e4%ba%ba%e7%9c%8c%e6%b0%91%e7%a8%8e%e3%83%bb%e6%b3%95%e4%ba%ba%e4%ba%8b%e6%a5%ad%e7%a8%8e%e7%ad%89%e7%a2%ba%e5%ae%9a%e7%94%b3%e5%91%8a/
CATEGORIES:法人県民税・法人事業税
END:VEVENT
BEGIN:VEVENT
DTSTART;TZID=Asia/Tokyo:20250602T000000
DTEND;TZID=Asia/Tokyo:20250602T235959
DTSTAMP:20260421T134733
CREATED:20241031T234113Z
LAST-MODIFIED:20241031T234113Z
UID:728-1748822400-1748908799@miyakojima.jp
SUMMARY:令和7年度 固定資産税　第1期納期限
DESCRIPTION:
URL:https://miyakojima.jp/tax/event/%e4%bb%a4%e5%92%8c7%e5%b9%b4%e5%ba%a6-%e5%9b%ba%e5%ae%9a%e8%b3%87%e7%94%a3%e7%a8%8e%e3%80%80%e7%ac%ac1%e6%9c%9f%e7%b4%8d%e6%9c%9f%e9%99%90/
CATEGORIES:資産税
END:VEVENT
BEGIN:VEVENT
DTSTART;TZID=Asia/Tokyo:20250602T000000
DTEND;TZID=Asia/Tokyo:20250602T235959
DTSTAMP:20260421T134733
CREATED:20241031T234112Z
LAST-MODIFIED:20241031T234112Z
UID:725-1748822400-1748908799@miyakojima.jp
SUMMARY:令和7年度軽自動車税（種別割）納付期限
DESCRIPTION:
URL:https://miyakojima.jp/tax/event/%e4%bb%a4%e5%92%8c7%e5%b9%b4%e5%ba%a6%e8%bb%bd%e8%87%aa%e5%8b%95%e8%bb%8a%e7%a8%8e%ef%bc%88%e7%a8%ae%e5%88%a5%e5%89%b2%ef%bc%89%e7%b4%8d%e4%bb%98%e6%9c%9f%e9%99%90/
CATEGORIES:諸税
END:VEVENT
BEGIN:VEVENT
DTSTART;TZID=Asia/Tokyo:20250602T000000
DTEND;TZID=Asia/Tokyo:20250602T235959
DTSTAMP:20260421T134733
CREATED:20241031T234112Z
LAST-MODIFIED:20241031T234112Z
UID:713-1748822400-1748908799@miyakojima.jp
SUMMARY:3月決算法人　法人市民税申告・納付期限
DESCRIPTION:
URL:https://miyakojima.jp/tax/event/3%e6%9c%88%e6%b1%ba%e7%ae%97%e6%b3%95%e4%ba%ba%e3%80%80%e6%b3%95%e4%ba%ba%e5%b8%82%e6%b0%91%e7%a8%8e%e7%94%b3%e5%91%8a%e3%83%bb%e7%b4%8d%e4%bb%98%e6%9c%9f%e9%99%90/
CATEGORIES:諸税
END:VEVENT
BEGIN:VEVENT
DTSTART;TZID=Asia/Tokyo:20250602T000000
DTEND;TZID=Asia/Tokyo:20250602T235959
DTSTAMP:20260421T134733
CREATED:20241031T234112Z
LAST-MODIFIED:20241031T234112Z
UID:726-1748822400-1748908799@miyakojima.jp
SUMMARY:令和７年度軽自動車税（種別割）減免申請期限
DESCRIPTION:
URL:https://miyakojima.jp/tax/event/%e4%bb%a4%e5%92%8c%ef%bc%97%e5%b9%b4%e5%ba%a6%e8%bb%bd%e8%87%aa%e5%8b%95%e8%bb%8a%e7%a8%8e%ef%bc%88%e7%a8%ae%e5%88%a5%e5%89%b2%ef%bc%89%e6%b8%9b%e5%85%8d%e7%94%b3%e8%ab%8b%e6%9c%9f%e9%99%90/
CATEGORIES:諸税
END:VEVENT
BEGIN:VEVENT
DTSTART;TZID=Asia/Tokyo:20250602T000000
DTEND;TZID=Asia/Tokyo:20250602T235959
DTSTAMP:20260421T134733
CREATED:20241030T142332Z
LAST-MODIFIED:20241030T142332Z
UID:487-1748822400-1748908799@miyakojima.jp
SUMMARY:３月決算法人の法人税・消費税申告期限
DESCRIPTION:本日は、３月決算法人の法人税及び地方法人税、消費税及び地方消費税の確定申告期限です。
URL:https://miyakojima.jp/tax/event/%ef%bc%93%e6%9c%88%e6%b1%ba%e7%ae%97%e6%b3%95%e4%ba%ba%e3%81%ae%e6%b3%95%e4%ba%ba%e7%a8%8e%e3%83%bb%e6%b6%88%e8%b2%bb%e7%a8%8e%e7%94%b3%e5%91%8a%e6%9c%9f%e9%99%90/
CATEGORIES:法人税・消費税
END:VEVENT
BEGIN:VEVENT
DTSTART;TZID=Asia/Tokyo:20250513T000000
DTEND;TZID=Asia/Tokyo:20250513T235959
DTSTAMP:20260421T134733
CREATED:20241031T234113Z
LAST-MODIFIED:20241031T234113Z
UID:677-1747094400-1747180799@miyakojima.jp
SUMMARY:令和7年度 市・県民税 特別徴収税額通知発送予定日（事業所納付分）
DESCRIPTION:
URL:https://miyakojima.jp/tax/event/%e4%bb%a4%e5%92%8c7%e5%b9%b4%e5%ba%a6-%e5%b8%82%e3%83%bb%e7%9c%8c%e6%b0%91%e7%a8%8e-%e7%89%b9%e5%88%a5%e5%be%b4%e5%8f%8e%e7%a8%8e%e9%a1%8d%e9%80%9a%e7%9f%a5%e7%99%ba%e9%80%81%e4%ba%88%e5%ae%9a/
CATEGORIES:市民税
END:VEVENT
BEGIN:VEVENT
DTSTART;TZID=Asia/Tokyo:20250512T000000
DTEND;TZID=Asia/Tokyo:20250512T235959
DTSTAMP:20260421T134733
CREATED:20241031T234113Z
LAST-MODIFIED:20241031T234113Z
UID:676-1747008000-1747094399@miyakojima.jp
SUMMARY:令和6年度 市・県民税4月分納期限（特別徴収：事業所納付分）
DESCRIPTION:
URL:https://miyakojima.jp/tax/event/%e4%bb%a4%e5%92%8c6%e5%b9%b4%e5%ba%a6-%e5%b8%82%e3%83%bb%e7%9c%8c%e6%b0%91%e7%a8%8e4%e6%9c%88%e5%88%86%e7%b4%8d%e6%9c%9f%e9%99%90%ef%bc%88%e7%89%b9%e5%88%a5%e5%be%b4%e5%8f%8e%ef%bc%9a%e4%ba%8b/
CATEGORIES:市民税
END:VEVENT
BEGIN:VEVENT
DTSTART;TZID=Asia/Tokyo:20250512T000000
DTEND;TZID=Asia/Tokyo:20250512T235959
DTSTAMP:20260421T134733
CREATED:20241030T142504Z
LAST-MODIFIED:20241030T142605Z
UID:486-1747008000-1747094399@miyakojima.jp
SUMMARY:４月分源泉所得税の納付期限
DESCRIPTION:本日は、令和７年４月分の源泉所得税及び復興特別所得税の納付期限です。 \n\n\n\n源泉所得税及び復興特別所得税の納付期限と納期の特例
URL:https://miyakojima.jp/tax/event/%ef%bc%94%e6%9c%88%e5%88%86%e6%ba%90%e6%b3%89%e6%89%80%e5%be%97%e7%a8%8e%e3%81%ae%e7%b4%8d%e4%bb%98%e6%9c%9f%e9%99%90/
CATEGORIES:源泉所得税
END:VEVENT
BEGIN:VEVENT
DTSTART;TZID=Asia/Tokyo:20250501T000000
DTEND;TZID=Asia/Tokyo:20250501T235959
DTSTAMP:20260421T134733
CREATED:20241031T234114Z
LAST-MODIFIED:20241031T234114Z
UID:732-1746057600-1746143999@miyakojima.jp
SUMMARY:令和7年度固定資産税納税通知書発送
DESCRIPTION:
URL:https://miyakojima.jp/tax/event/%e4%bb%a4%e5%92%8c7%e5%b9%b4%e5%ba%a6%e5%9b%ba%e5%ae%9a%e8%b3%87%e7%94%a3%e7%a8%8e%e7%b4%8d%e7%a8%8e%e9%80%9a%e7%9f%a5%e6%9b%b8%e7%99%ba%e9%80%81/
CATEGORIES:資産税
END:VEVENT
BEGIN:VEVENT
DTSTART;TZID=Asia/Tokyo:20250430T000000
DTEND;TZID=Asia/Tokyo:20250430T235959
DTSTAMP:20260421T134733
CREATED:20241111T072801Z
LAST-MODIFIED:20241111T072829Z
UID:1006-1745971200-1746057599@miyakojima.jp
SUMMARY:2月決算法人　法人県民税・法人事業税等確定申告・納付期限
DESCRIPTION:本日は2月決算法人の法人県民税・法人事業税等確定申告・納付期限です。 \n\n\n\n宮古事務所県税課_法人県民税・法人事業税のお知らせ
URL:https://miyakojima.jp/tax/event/2%e6%9c%88%e6%b1%ba%e7%ae%97%e6%b3%95%e4%ba%ba%e3%80%80%e6%b3%95%e4%ba%ba%e7%9c%8c%e6%b0%91%e7%a8%8e%e3%83%bb%e6%b3%95%e4%ba%ba%e4%ba%8b%e6%a5%ad%e7%a8%8e%e7%ad%89%e7%a2%ba%e5%ae%9a%e7%94%b3%e5%91%8a/
CATEGORIES:法人県民税・法人事業税
END:VEVENT
BEGIN:VEVENT
DTSTART;TZID=Asia/Tokyo:20250430T000000
DTEND;TZID=Asia/Tokyo:20250430T235959
DTSTAMP:20260421T134733
CREATED:20241031T234114Z
LAST-MODIFIED:20241031T234114Z
UID:712-1745971200-1746057599@miyakojima.jp
SUMMARY:2月決算法人　法人市民税申告・納付期限
DESCRIPTION:
URL:https://miyakojima.jp/tax/event/2%e6%9c%88%e6%b1%ba%e7%ae%97%e6%b3%95%e4%ba%ba%e3%80%80%e6%b3%95%e4%ba%ba%e5%b8%82%e6%b0%91%e7%a8%8e%e7%94%b3%e5%91%8a%e3%83%bb%e7%b4%8d%e4%bb%98%e6%9c%9f%e9%99%90/
CATEGORIES:諸税
END:VEVENT
BEGIN:VEVENT
DTSTART;TZID=Asia/Tokyo:20250430T000000
DTEND;TZID=Asia/Tokyo:20250430T235959
DTSTAMP:20260421T134733
CREATED:20241031T011831Z
LAST-MODIFIED:20241031T012839Z
UID:742-1745971200-1746057599@miyakojima.jp
SUMMARY:令和６年確定申告分の振替納付日（消費税及び地方消費税（個人事業者））
DESCRIPTION:「申告所得税及び復興特別所得税」・・令和７年４月２３日（水）「消費税及び地方消費税（個人事業者）」・・令和７年４月３０日（水）
URL:https://miyakojima.jp/tax/event/%e4%bb%a4%e5%92%8c%ef%bc%96%e5%b9%b4%e7%a2%ba%e5%ae%9a%e7%94%b3%e5%91%8a%e5%88%86%e3%81%ae%e6%8c%af%e6%9b%bf%e7%b4%8d%e4%bb%98%e6%97%a5%ef%bc%88%e6%b6%88%e8%b2%bb%e7%a8%8e%e5%8f%8a%e3%81%b3%e5%9c%b0/
CATEGORIES:管運
END:VEVENT
BEGIN:VEVENT
DTSTART;TZID=Asia/Tokyo:20250430T000000
DTEND;TZID=Asia/Tokyo:20250430T235959
DTSTAMP:20260421T134733
CREATED:20241030T142157Z
LAST-MODIFIED:20241030T142157Z
UID:485-1745971200-1746057599@miyakojima.jp
SUMMARY:２月決算法人の法人税・消費税申告期限
DESCRIPTION:本日は、２月決算法人の法人税及び地方法人税、消費税及び地方消費税の確定申告期限です。
URL:https://miyakojima.jp/tax/event/%ef%bc%92%e6%9c%88%e6%b1%ba%e7%ae%97%e6%b3%95%e4%ba%ba%e3%81%ae%e6%b3%95%e4%ba%ba%e7%a8%8e%e3%83%bb%e6%b6%88%e8%b2%bb%e7%a8%8e%e7%94%b3%e5%91%8a%e6%9c%9f%e9%99%90/
CATEGORIES:法人税・消費税
END:VEVENT
BEGIN:VEVENT
DTSTART;TZID=Asia/Tokyo:20250423T000000
DTEND;TZID=Asia/Tokyo:20250423T235959
DTSTAMP:20260421T134733
CREATED:20241031T011832Z
LAST-MODIFIED:20241031T012834Z
UID:718-1745366400-1745452799@miyakojima.jp
SUMMARY:令和６年確定申告分の振替納付日（申告所得税及び復興特別所得税）
DESCRIPTION:「申告所得税及び復興特別所得税」・・令和７年４月２３日（水）「消費税及び地方消費税（個人事業者）」・・令和７年４月３０日（水）
URL:https://miyakojima.jp/tax/event/%e4%bb%a4%e5%92%8c%ef%bc%96%e5%b9%b4%e7%a2%ba%e5%ae%9a%e7%94%b3%e5%91%8a%e5%88%86%e3%81%ae%e6%8c%af%e6%9b%bf%e7%b4%8d%e4%bb%98%e6%97%a5%ef%bc%88%e7%94%b3%e5%91%8a%e6%89%80%e5%be%97%e7%a8%8e%e5%8f%8a/
CATEGORIES:管運
END:VEVENT
BEGIN:VEVENT
DTSTART;TZID=Asia/Tokyo:20250410T000000
DTEND;TZID=Asia/Tokyo:20250410T235959
DTSTAMP:20260421T134733
CREATED:20241031T234114Z
LAST-MODIFIED:20241031T234114Z
UID:675-1744243200-1744329599@miyakojima.jp
SUMMARY:令和6年度 市・県民税3月分納期限（特別徴収：事業所納付分）
DESCRIPTION:
URL:https://miyakojima.jp/tax/event/%e4%bb%a4%e5%92%8c6%e5%b9%b4%e5%ba%a6-%e5%b8%82%e3%83%bb%e7%9c%8c%e6%b0%91%e7%a8%8e3%e6%9c%88%e5%88%86%e7%b4%8d%e6%9c%9f%e9%99%90%ef%bc%88%e7%89%b9%e5%88%a5%e5%be%b4%e5%8f%8e%ef%bc%9a%e4%ba%8b/
CATEGORIES:市民税
END:VEVENT
BEGIN:VEVENT
DTSTART;TZID=Asia/Tokyo:20250410T000000
DTEND;TZID=Asia/Tokyo:20250410T235959
DTSTAMP:20260421T134733
CREATED:20241030T142504Z
LAST-MODIFIED:20241030T142604Z
UID:484-1744243200-1744329599@miyakojima.jp
SUMMARY:３月分源泉所得税の納付期限
DESCRIPTION:本日は、令和７年３月分の源泉所得税及び復興特別所得税の納付期限です。 \n\n\n\n源泉所得税及び復興特別所得税の納付期限と納期の特例
URL:https://miyakojima.jp/tax/event/%ef%bc%93%e6%9c%88%e5%88%86%e6%ba%90%e6%b3%89%e6%89%80%e5%be%97%e7%a8%8e%e3%81%ae%e7%b4%8d%e4%bb%98%e6%9c%9f%e9%99%90/
CATEGORIES:源泉所得税
END:VEVENT
END:VCALENDAR