BEGIN:VCALENDAR
VERSION:2.0
PRODID:-//宮古島「税」のカレンダー - ECPv6.8.3//NONSGML v1.0//EN
CALSCALE:GREGORIAN
METHOD:PUBLISH
X-ORIGINAL-URL:https://miyakojima.jp/tax
X-WR-CALDESC:宮古島「税」のカレンダー のイベント
REFRESH-INTERVAL;VALUE=DURATION:PT1H
X-Robots-Tag:noindex
X-PUBLISHED-TTL:PT1H
BEGIN:VTIMEZONE
TZID:Asia/Tokyo
BEGIN:STANDARD
TZOFFSETFROM:+0900
TZOFFSETTO:+0900
TZNAME:JST
DTSTART:20260101T000000
END:STANDARD
END:VTIMEZONE
BEGIN:VEVENT
DTSTART;TZID=Asia/Tokyo:20261102T000000
DTEND;TZID=Asia/Tokyo:20261102T235959
DTSTAMP:20260421T101727
CREATED:20260327T050433Z
LAST-MODIFIED:20260327T050433Z
UID:1813-1793577600-1793663999@miyakojima.jp
SUMMARY:８月決算法人の法人税・消費税申告期限
DESCRIPTION:本日は、８月決算法人の法人税及び地方法人税、消費税及び地方消費税の確定申告期限です。
URL:https://miyakojima.jp/tax/event/%ef%bc%98%e6%9c%88%e6%b1%ba%e7%ae%97%e6%b3%95%e4%ba%ba%e3%81%ae%e6%b3%95%e4%ba%ba%e7%a8%8e%e3%83%bb%e6%b6%88%e8%b2%bb%e7%a8%8e%e7%94%b3%e5%91%8a%e6%9c%9f%e9%99%90-2/
CATEGORIES:法人税・消費税
END:VEVENT
BEGIN:VEVENT
DTSTART;TZID=Asia/Tokyo:20261110T000000
DTEND;TZID=Asia/Tokyo:20261110T235959
DTSTAMP:20260421T101727
CREATED:20260318T011024Z
LAST-MODIFIED:20260318T011024Z
UID:1449-1794268800-1794355199@miyakojima.jp
SUMMARY:令和8年度 市・県民税10月分納期限（特別徴収：事業所納付分）
DESCRIPTION:
URL:https://miyakojima.jp/tax/event/%e4%bb%a4%e5%92%8c8%e5%b9%b4%e5%ba%a6-%e5%b8%82%e3%83%bb%e7%9c%8c%e6%b0%91%e7%a8%8e10%e6%9c%88%e5%88%86%e7%b4%8d%e6%9c%9f%e9%99%90%ef%bc%88%e7%89%b9%e5%88%a5%e5%be%b4%e5%8f%8e%ef%bc%9a%e4%ba%8b/
CATEGORIES:市民税
END:VEVENT
BEGIN:VEVENT
DTSTART;TZID=Asia/Tokyo:20261110T000000
DTEND;TZID=Asia/Tokyo:20261110T235959
DTSTAMP:20260421T101727
CREATED:20260327T050438Z
LAST-MODIFIED:20260327T050438Z
UID:1801-1794268800-1794355199@miyakojima.jp
SUMMARY:１０月分源泉所得税の納付期限
DESCRIPTION:本日は、令和８年１０月分の源泉所得税及び復興特別所得税の納付期限です。 \n\n\n\n 詳しくはこちらをご覧ください→
URL:https://miyakojima.jp/tax/event/%ef%bc%91%ef%bc%90%e6%9c%88%e5%88%86%e6%ba%90%e6%b3%89%e6%89%80%e5%be%97%e7%a8%8e%e3%81%ae%e7%b4%8d%e4%bb%98%e6%9c%9f%e9%99%90/
CATEGORIES:所得税
END:VEVENT
BEGIN:VEVENT
DTSTART;TZID=Asia/Tokyo:20261130T000000
DTEND;TZID=Asia/Tokyo:20261130T235959
DTSTAMP:20260421T101727
CREATED:20260327T050433Z
LAST-MODIFIED:20260327T050433Z
UID:1814-1795996800-1796083199@miyakojima.jp
SUMMARY:９月決算法人の法人税・消費税申告期限
DESCRIPTION:本日は、９月決算法人の法人税及び地方法人税、消費税及び地方消費税の確定申告期限です。
URL:https://miyakojima.jp/tax/event/%ef%bc%99%e6%9c%88%e6%b1%ba%e7%ae%97%e6%b3%95%e4%ba%ba%e3%81%ae%e6%b3%95%e4%ba%ba%e7%a8%8e%e3%83%bb%e6%b6%88%e8%b2%bb%e7%a8%8e%e7%94%b3%e5%91%8a%e6%9c%9f%e9%99%90-3/
CATEGORIES:法人税・消費税
END:VEVENT
BEGIN:VEVENT
DTSTART;TZID=Asia/Tokyo:20261210T000000
DTEND;TZID=Asia/Tokyo:20261210T235959
DTSTAMP:20260421T101727
CREATED:20260318T011025Z
LAST-MODIFIED:20260318T011025Z
UID:1450-1796860800-1796947199@miyakojima.jp
SUMMARY:令和8年度 市・県民税11月分納期限（特別徴収：事業所納付分）
DESCRIPTION:
URL:https://miyakojima.jp/tax/event/%e4%bb%a4%e5%92%8c8%e5%b9%b4%e5%ba%a6-%e5%b8%82%e3%83%bb%e7%9c%8c%e6%b0%91%e7%a8%8e11%e6%9c%88%e5%88%86%e7%b4%8d%e6%9c%9f%e9%99%90%ef%bc%88%e7%89%b9%e5%88%a5%e5%be%b4%e5%8f%8e%ef%bc%9a%e4%ba%8b/
CATEGORIES:市民税
END:VEVENT
BEGIN:VEVENT
DTSTART;TZID=Asia/Tokyo:20261210T000000
DTEND;TZID=Asia/Tokyo:20261210T235959
DTSTAMP:20260421T101727
CREATED:20260327T050438Z
LAST-MODIFIED:20260327T050438Z
UID:1802-1796860800-1796947199@miyakojima.jp
SUMMARY:１１月分源泉所得税の納付期限
DESCRIPTION:本日は、令和８年１１月分の源泉所得税及び復興特別所得税の納付期限です。 \n\n\n\n 詳しくはこちらをご覧ください→
URL:https://miyakojima.jp/tax/event/%ef%bc%91%ef%bc%91%e6%9c%88%e5%88%86%e6%ba%90%e6%b3%89%e6%89%80%e5%be%97%e7%a8%8e%e3%81%ae%e7%b4%8d%e4%bb%98%e6%9c%9f%e9%99%90/
CATEGORIES:所得税
END:VEVENT
BEGIN:VEVENT
DTSTART;TZID=Asia/Tokyo:20261225T000000
DTEND;TZID=Asia/Tokyo:20261225T235959
DTSTAMP:20260421T101727
CREATED:20260318T011025Z
LAST-MODIFIED:20260318T011025Z
UID:1492-1798156800-1798243199@miyakojima.jp
SUMMARY:令和8年度 固定資産税・償却資産税　第3期納期限
DESCRIPTION:
URL:https://miyakojima.jp/tax/event/%e4%bb%a4%e5%92%8c8%e5%b9%b4%e5%ba%a6-%e5%9b%ba%e5%ae%9a%e8%b3%87%e7%94%a3%e7%a8%8e%e3%83%bb%e5%84%9f%e5%8d%b4%e8%b3%87%e7%94%a3%e7%a8%8e%e3%80%80%e7%ac%ac3%e6%9c%9f%e7%b4%8d%e6%9c%9f%e9%99%90/
CATEGORIES:資産税
END:VEVENT
BEGIN:VEVENT
DTSTART;TZID=Asia/Tokyo:20270104T000000
DTEND;TZID=Asia/Tokyo:20270104T235959
DTSTAMP:20260421T101727
CREATED:20260327T050433Z
LAST-MODIFIED:20260327T050433Z
UID:1815-1799020800-1799107199@miyakojima.jp
SUMMARY:10月決算法人の法人税・消費税申告期限
DESCRIPTION:本日は、10月決算法人の法人税及び地方法人税、消費税及び地方消費税の確定申告期限です。
URL:https://miyakojima.jp/tax/event/10%e6%9c%88%e6%b1%ba%e7%ae%97%e6%b3%95%e4%ba%ba%e3%81%ae%e6%b3%95%e4%ba%ba%e7%a8%8e%e3%83%bb%e6%b6%88%e8%b2%bb%e7%a8%8e%e7%94%b3%e5%91%8a%e6%9c%9f%e9%99%90-3/
CATEGORIES:法人税・消費税
END:VEVENT
BEGIN:VEVENT
DTSTART;TZID=Asia/Tokyo:20270112T000000
DTEND;TZID=Asia/Tokyo:20270112T235959
DTSTAMP:20260421T101727
CREATED:20260318T011025Z
LAST-MODIFIED:20260318T011025Z
UID:1451-1799712000-1799798399@miyakojima.jp
SUMMARY:令和8年度 市・県民税12月分納期限（特別徴収：事業所納付分）
DESCRIPTION:
URL:https://miyakojima.jp/tax/event/%e4%bb%a4%e5%92%8c8%e5%b9%b4%e5%ba%a6-%e5%b8%82%e3%83%bb%e7%9c%8c%e6%b0%91%e7%a8%8e12%e6%9c%88%e5%88%86%e7%b4%8d%e6%9c%9f%e9%99%90%ef%bc%88%e7%89%b9%e5%88%a5%e5%be%b4%e5%8f%8e%ef%bc%9a%e4%ba%8b/
CATEGORIES:市民税
END:VEVENT
BEGIN:VEVENT
DTSTART;TZID=Asia/Tokyo:20270112T000000
DTEND;TZID=Asia/Tokyo:20270112T235959
DTSTAMP:20260421T101727
CREATED:20260327T050437Z
LAST-MODIFIED:20260327T050437Z
UID:1803-1799712000-1799798399@miyakojima.jp
SUMMARY:１２月分源泉所得税の納付期限
DESCRIPTION:本日は、令和８年１２月分の源泉所得税及び復興特別所得税の納付期限です。 \n\n\n\n 詳しくはこちらをご覧ください→
URL:https://miyakojima.jp/tax/event/%ef%bc%91%ef%bc%92%e6%9c%88%e5%88%86%e6%ba%90%e6%b3%89%e6%89%80%e5%be%97%e7%a8%8e%e3%81%ae%e7%b4%8d%e4%bb%98%e6%9c%9f%e9%99%90/
CATEGORIES:所得税
END:VEVENT
BEGIN:VEVENT
DTSTART;TZID=Asia/Tokyo:20270120T000000
DTEND;TZID=Asia/Tokyo:20270120T235959
DTSTAMP:20260421T101727
CREATED:20260327T050437Z
LAST-MODIFIED:20260327T050437Z
UID:1804-1800403200-1800489599@miyakojima.jp
SUMMARY:納期の特例（７～12月分源泉所得税）の納付期限
DESCRIPTION:本日は、令和８年７月～12月分の源泉所得税及び復興特別所得税について、納期の特例を受けている方の納付期限です。 \n\n\n\n 詳しくはこちらをご覧ください→
URL:https://miyakojima.jp/tax/event/%e7%b4%8d%e6%9c%9f%e3%81%ae%e7%89%b9%e4%be%8b%ef%bc%88%ef%bc%97%ef%bd%9e12%e6%9c%88%e5%88%86%e6%ba%90%e6%b3%89%e6%89%80%e5%be%97%e7%a8%8e%ef%bc%89%e3%81%ae%e7%b4%8d%e4%bb%98%e6%9c%9f%e9%99%90-3/
CATEGORIES:所得税
END:VEVENT
BEGIN:VEVENT
DTSTART;TZID=Asia/Tokyo:20270201T000000
DTEND;TZID=Asia/Tokyo:20270201T235959
DTSTAMP:20260421T101727
CREATED:20260318T011026Z
LAST-MODIFIED:20260318T011026Z
UID:1465-1801440000-1801526399@miyakojima.jp
SUMMARY:令和8年度 市・県民税第4期納期限（普通徴収：本人納付分）
DESCRIPTION:
URL:https://miyakojima.jp/tax/event/%e4%bb%a4%e5%92%8c8%e5%b9%b4%e5%ba%a6-%e5%b8%82%e3%83%bb%e7%9c%8c%e6%b0%91%e7%a8%8e%e7%ac%ac4%e6%9c%9f%e7%b4%8d%e6%9c%9f%e9%99%90%ef%bc%88%e6%99%ae%e9%80%9a%e5%be%b4%e5%8f%8e%ef%bc%9a%e6%9c%ac/
CATEGORIES:市民税
END:VEVENT
BEGIN:VEVENT
DTSTART;TZID=Asia/Tokyo:20270201T000000
DTEND;TZID=Asia/Tokyo:20270201T235959
DTSTAMP:20260421T101727
CREATED:20260327T050431Z
LAST-MODIFIED:20260327T050431Z
UID:1819-1801440000-1801526399@miyakojima.jp
SUMMARY:法定調書（給与所得の源泉徴収票等）の提出期限
DESCRIPTION:本日は、給与所得の源泉徴収票などの法定調書の提出期限です。 \n\n\n\n 詳しくはこちらをご覧ください→
URL:https://miyakojima.jp/tax/event/%e6%b3%95%e5%ae%9a%e8%aa%bf%e6%9b%b8%ef%bc%88%e7%b5%a6%e4%b8%8e%e6%89%80%e5%be%97%e3%81%ae%e6%ba%90%e6%b3%89%e5%be%b4%e5%8f%8e%e7%a5%a8%e7%ad%89%ef%bc%89%e3%81%ae%e6%8f%90%e5%87%ba%e6%9c%9f%e9%99%90/
CATEGORIES:所得税
END:VEVENT
BEGIN:VEVENT
DTSTART;TZID=Asia/Tokyo:20270201T000000
DTEND;TZID=Asia/Tokyo:20270201T235959
DTSTAMP:20260421T101727
CREATED:20260327T050432Z
LAST-MODIFIED:20260327T050432Z
UID:1816-1801440000-1801526399@miyakojima.jp
SUMMARY:11月決算法人の法人税・消費税申告期限
DESCRIPTION:本日は、11月決算法人の法人税及び地方法人税、消費税及び地方消費税の確定申告期限です。
URL:https://miyakojima.jp/tax/event/11%e6%9c%88%e6%b1%ba%e7%ae%97%e6%b3%95%e4%ba%ba%e3%81%ae%e6%b3%95%e4%ba%ba%e7%a8%8e%e3%83%bb%e6%b6%88%e8%b2%bb%e7%a8%8e%e7%94%b3%e5%91%8a%e6%9c%9f%e9%99%90-3/
CATEGORIES:法人税・消費税
END:VEVENT
BEGIN:VEVENT
DTSTART;TZID=Asia/Tokyo:20270201T000000
DTEND;TZID=Asia/Tokyo:20270205T235959
DTSTAMP:20260421T101727
CREATED:20260318T011026Z
LAST-MODIFIED:20260318T011026Z
UID:1495-1801440000-1801871999@miyakojima.jp
SUMMARY:令和9年度（令和8年分）市・県民税申告受付
DESCRIPTION:※ 受付時間 午前 9：00 ～ 11：30　午後 13：00 ～ 16：45
URL:https://miyakojima.jp/tax/event/%e4%bb%a4%e5%92%8c9%e5%b9%b4%e5%ba%a6%ef%bc%88%e4%bb%a4%e5%92%8c8%e5%b9%b4%e5%88%86%ef%bc%89%e5%b8%82%e3%83%bb%e7%9c%8c%e6%b0%91%e7%a8%8e%e7%94%b3%e5%91%8a%e5%8f%97%e4%bb%98-2/
CATEGORIES:市民税
END:VEVENT
BEGIN:VEVENT
DTSTART;TZID=Asia/Tokyo:20270208T000000
DTEND;TZID=Asia/Tokyo:20270210T235959
DTSTAMP:20260421T101727
CREATED:20260318T011026Z
LAST-MODIFIED:20260318T011026Z
UID:1496-1802044800-1802303999@miyakojima.jp
SUMMARY:令和9年度（令和8年分）市・県民税申告受付
DESCRIPTION:※ 受付時間 午前 9：00 ～ 11：30　午後 13：00 ～ 16：45
URL:https://miyakojima.jp/tax/event/%e4%bb%a4%e5%92%8c9%e5%b9%b4%e5%ba%a6%ef%bc%88%e4%bb%a4%e5%92%8c8%e5%b9%b4%e5%88%86%ef%bc%89%e5%b8%82%e3%83%bb%e7%9c%8c%e6%b0%91%e7%a8%8e%e7%94%b3%e5%91%8a%e5%8f%97%e4%bb%98-3/
CATEGORIES:市民税
END:VEVENT
BEGIN:VEVENT
DTSTART;TZID=Asia/Tokyo:20270210T000000
DTEND;TZID=Asia/Tokyo:20270210T235959
DTSTAMP:20260421T101727
CREATED:20260318T011026Z
LAST-MODIFIED:20260318T011026Z
UID:1452-1802217600-1802303999@miyakojima.jp
SUMMARY:令和8年度 市・県民税1月分納期限（特別徴収：事業所納付分）
DESCRIPTION:
URL:https://miyakojima.jp/tax/event/%e4%bb%a4%e5%92%8c8%e5%b9%b4%e5%ba%a6-%e5%b8%82%e3%83%bb%e7%9c%8c%e6%b0%91%e7%a8%8e1%e6%9c%88%e5%88%86%e7%b4%8d%e6%9c%9f%e9%99%90%ef%bc%88%e7%89%b9%e5%88%a5%e5%be%b4%e5%8f%8e%ef%bc%9a%e4%ba%8b/
CATEGORIES:市民税
END:VEVENT
BEGIN:VEVENT
DTSTART;TZID=Asia/Tokyo:20270210T000000
DTEND;TZID=Asia/Tokyo:20270210T235959
DTSTAMP:20260421T101727
CREATED:20260327T050436Z
LAST-MODIFIED:20260327T050436Z
UID:1805-1802217600-1802303999@miyakojima.jp
SUMMARY:１月分源泉所得税の納付期限
DESCRIPTION:本日は、令和９年１月分の源泉所得税及び復興特別所得税の納付期限です。 \n\n\n\n 詳しくはこちらをご覧ください→
URL:https://miyakojima.jp/tax/event/%ef%bc%91%e6%9c%88%e5%88%86%e6%ba%90%e6%b3%89%e6%89%80%e5%be%97%e7%a8%8e%e3%81%ae%e7%b4%8d%e4%bb%98%e6%9c%9f%e9%99%90-2/
CATEGORIES:所得税
END:VEVENT
BEGIN:VEVENT
DTSTART;TZID=Asia/Tokyo:20270212T000000
DTEND;TZID=Asia/Tokyo:20270212T235959
DTSTAMP:20260421T101727
CREATED:20260318T011018Z
LAST-MODIFIED:20260318T011018Z
UID:1497-1802390400-1802476799@miyakojima.jp
SUMMARY:令和9年度（令和8年分）市・県民税申告受付 本庁舎 準備日（申告受付不可日）
DESCRIPTION:※ 受付時間 午前 9：00 ～ 11：30　午後 13：00 ～ 16：45
URL:https://miyakojima.jp/tax/event/%e4%bb%a4%e5%92%8c9%e5%b9%b4%e5%ba%a6%ef%bc%88%e4%bb%a4%e5%92%8c8%e5%b9%b4%e5%88%86%ef%bc%89%e5%b8%82%e3%83%bb%e7%9c%8c%e6%b0%91%e7%a8%8e%e7%94%b3%e5%91%8a%e5%8f%97%e4%bb%98-%e6%9c%ac%e5%ba%81/
CATEGORIES:市民税
END:VEVENT
BEGIN:VEVENT
DTSTART;TZID=Asia/Tokyo:20270215T000000
DTEND;TZID=Asia/Tokyo:20270219T235959
DTSTAMP:20260421T101727
CREATED:20260318T011019Z
LAST-MODIFIED:20260318T011019Z
UID:1498-1802649600-1803081599@miyakojima.jp
SUMMARY:令和9年度（令和8年分）市・県民税申告受付
DESCRIPTION:※ 受付時間 午前 9：00 ～ 11：30　午後 13：00 ～ 16：45
URL:https://miyakojima.jp/tax/event/%e4%bb%a4%e5%92%8c9%e5%b9%b4%e5%ba%a6%ef%bc%88%e4%bb%a4%e5%92%8c8%e5%b9%b4%e5%88%86%ef%bc%89%e5%b8%82%e3%83%bb%e7%9c%8c%e6%b0%91%e7%a8%8e%e7%94%b3%e5%91%8a%e5%8f%97%e4%bb%98/
CATEGORIES:市民税
END:VEVENT
BEGIN:VEVENT
DTSTART;TZID=Asia/Tokyo:20270222T000000
DTEND;TZID=Asia/Tokyo:20270222T235959
DTSTAMP:20260421T101727
CREATED:20260318T011027Z
LAST-MODIFIED:20260318T011027Z
UID:1499-1803254400-1803340799@miyakojima.jp
SUMMARY:令和9年度（令和8年分）市・県民税申告受付
DESCRIPTION:※ 受付時間 午前 9：00 ～ 11：30　午後 13：00 ～ 16：45
URL:https://miyakojima.jp/tax/event/%e4%bb%a4%e5%92%8c9%e5%b9%b4%e5%ba%a6%ef%bc%88%e4%bb%a4%e5%92%8c8%e5%b9%b4%e5%88%86%ef%bc%89%e5%b8%82%e3%83%bb%e7%9c%8c%e6%b0%91%e7%a8%8e%e7%94%b3%e5%91%8a%e5%8f%97%e4%bb%98-4/
CATEGORIES:市民税
END:VEVENT
BEGIN:VEVENT
DTSTART;TZID=Asia/Tokyo:20270224T000000
DTEND;TZID=Asia/Tokyo:20270226T235959
DTSTAMP:20260421T101727
CREATED:20260318T011027Z
LAST-MODIFIED:20260318T011027Z
UID:1500-1803427200-1803686399@miyakojima.jp
SUMMARY:令和9年度（令和8年分）市・県民税申告受付
DESCRIPTION:※ 受付時間 午前 9：00 ～ 11：30　午後 13：00 ～ 16：45
URL:https://miyakojima.jp/tax/event/%e4%bb%a4%e5%92%8c9%e5%b9%b4%e5%ba%a6%ef%bc%88%e4%bb%a4%e5%92%8c8%e5%b9%b4%e5%88%86%ef%bc%89%e5%b8%82%e3%83%bb%e7%9c%8c%e6%b0%91%e7%a8%8e%e7%94%b3%e5%91%8a%e5%8f%97%e4%bb%98-5/
CATEGORIES:市民税
END:VEVENT
BEGIN:VEVENT
DTSTART;TZID=Asia/Tokyo:20270301T000000
DTEND;TZID=Asia/Tokyo:20270301T235959
DTSTAMP:20260421T101727
CREATED:20260318T011027Z
LAST-MODIFIED:20260318T011027Z
UID:1493-1803859200-1803945599@miyakojima.jp
SUMMARY:令和8年度 固定資産税・償却資産税　第4期納期限
DESCRIPTION:
URL:https://miyakojima.jp/tax/event/%e4%bb%a4%e5%92%8c8%e5%b9%b4%e5%ba%a6-%e5%9b%ba%e5%ae%9a%e8%b3%87%e7%94%a3%e7%a8%8e%e3%83%bb%e5%84%9f%e5%8d%b4%e8%b3%87%e7%94%a3%e7%a8%8e%e3%80%80%e7%ac%ac4%e6%9c%9f%e7%b4%8d%e6%9c%9f%e9%99%90/
CATEGORIES:資産税
END:VEVENT
BEGIN:VEVENT
DTSTART;TZID=Asia/Tokyo:20270301T000000
DTEND;TZID=Asia/Tokyo:20270301T235959
DTSTAMP:20260421T101727
CREATED:20260327T050432Z
LAST-MODIFIED:20260327T050432Z
UID:1817-1803859200-1803945599@miyakojima.jp
SUMMARY:12月決算法人の法人税・消費税申告期限
DESCRIPTION:本日は、12月決算法人の法人税及び地方法人税、消費税及び地方消費税の確定申告期限です。
URL:https://miyakojima.jp/tax/event/12%e6%9c%88%e6%b1%ba%e7%ae%97%e6%b3%95%e4%ba%ba%e3%81%ae%e6%b3%95%e4%ba%ba%e7%a8%8e%e3%83%bb%e6%b6%88%e8%b2%bb%e7%a8%8e%e7%94%b3%e5%91%8a%e6%9c%9f%e9%99%90-3/
CATEGORIES:法人税・消費税
END:VEVENT
BEGIN:VEVENT
DTSTART;TZID=Asia/Tokyo:20270301T000000
DTEND;TZID=Asia/Tokyo:20270305T235959
DTSTAMP:20260421T101727
CREATED:20260318T011028Z
LAST-MODIFIED:20260318T011028Z
UID:1501-1803859200-1804291199@miyakojima.jp
SUMMARY:令和9年度（令和8年分）市・県民税申告受付
DESCRIPTION:※ 受付時間 午前 9：00 ～ 11：30　午後 13：00 ～ 16：45
URL:https://miyakojima.jp/tax/event/%e4%bb%a4%e5%92%8c9%e5%b9%b4%e5%ba%a6%ef%bc%88%e4%bb%a4%e5%92%8c8%e5%b9%b4%e5%88%86%ef%bc%89%e5%b8%82%e3%83%bb%e7%9c%8c%e6%b0%91%e7%a8%8e%e7%94%b3%e5%91%8a%e5%8f%97%e4%bb%98-6/
CATEGORIES:市民税
END:VEVENT
BEGIN:VEVENT
DTSTART;TZID=Asia/Tokyo:20270308T000000
DTEND;TZID=Asia/Tokyo:20270312T235959
DTSTAMP:20260421T101727
CREATED:20260318T011028Z
LAST-MODIFIED:20260318T011028Z
UID:1502-1804464000-1804895999@miyakojima.jp
SUMMARY:令和9年度（令和8年分）市・県民税申告受付
DESCRIPTION:※ 受付時間 午前 9：00 ～ 11：30　午後 13：00 ～ 16：45
URL:https://miyakojima.jp/tax/event/%e4%bb%a4%e5%92%8c9%e5%b9%b4%e5%ba%a6%ef%bc%88%e4%bb%a4%e5%92%8c8%e5%b9%b4%e5%88%86%ef%bc%89%e5%b8%82%e3%83%bb%e7%9c%8c%e6%b0%91%e7%a8%8e%e7%94%b3%e5%91%8a%e5%8f%97%e4%bb%98-7/
CATEGORIES:市民税
END:VEVENT
BEGIN:VEVENT
DTSTART;TZID=Asia/Tokyo:20270310T000000
DTEND;TZID=Asia/Tokyo:20270310T235959
DTSTAMP:20260421T101727
CREATED:20260318T011028Z
LAST-MODIFIED:20260318T011028Z
UID:1453-1804636800-1804723199@miyakojima.jp
SUMMARY:令和8年度 市・県民税2月分納期限（特別徴収：事業所納付分）
DESCRIPTION:
URL:https://miyakojima.jp/tax/event/%e4%bb%a4%e5%92%8c8%e5%b9%b4%e5%ba%a6-%e5%b8%82%e3%83%bb%e7%9c%8c%e6%b0%91%e7%a8%8e2%e6%9c%88%e5%88%86%e7%b4%8d%e6%9c%9f%e9%99%90%ef%bc%88%e7%89%b9%e5%88%a5%e5%be%b4%e5%8f%8e%ef%bc%9a%e4%ba%8b/
CATEGORIES:市民税
END:VEVENT
BEGIN:VEVENT
DTSTART;TZID=Asia/Tokyo:20270310T000000
DTEND;TZID=Asia/Tokyo:20270310T235959
DTSTAMP:20260421T101727
CREATED:20260327T050436Z
LAST-MODIFIED:20260327T050436Z
UID:1806-1804636800-1804723199@miyakojima.jp
SUMMARY:２月分源泉所得税の納付期限
DESCRIPTION:本日は、令和９年２月分の源泉所得税及び復興特別所得税の納付期限です。 \n\n\n\n 詳しくはこちらをご覧ください→
URL:https://miyakojima.jp/tax/event/%ef%bc%92%e6%9c%88%e5%88%86%e6%ba%90%e6%b3%89%e6%89%80%e5%be%97%e7%a8%8e%e3%81%ae%e7%b4%8d%e4%bb%98%e6%9c%9f%e9%99%90-3/
CATEGORIES:所得税
END:VEVENT
BEGIN:VEVENT
DTSTART;TZID=Asia/Tokyo:20270315T000000
DTEND;TZID=Asia/Tokyo:20270315T235959
DTSTAMP:20260421T101727
CREATED:20260318T011029Z
LAST-MODIFIED:20260318T011029Z
UID:1503-1805068800-1805155199@miyakojima.jp
SUMMARY:令和9年度（令和8年分）市・県民税申告受付
DESCRIPTION:※ 受付時間 午前 9：00 ～ 11：30　午後 13：00 ～ 16：45
URL:https://miyakojima.jp/tax/event/%e4%bb%a4%e5%92%8c9%e5%b9%b4%e5%ba%a6%ef%bc%88%e4%bb%a4%e5%92%8c8%e5%b9%b4%e5%88%86%ef%bc%89%e5%b8%82%e3%83%bb%e7%9c%8c%e6%b0%91%e7%a8%8e%e7%94%b3%e5%91%8a%e5%8f%97%e4%bb%98-8/
CATEGORIES:市民税
END:VEVENT
BEGIN:VEVENT
DTSTART;TZID=Asia/Tokyo:20270315T000000
DTEND;TZID=Asia/Tokyo:20270315T235959
DTSTAMP:20260421T101727
CREATED:20260327T050441Z
LAST-MODIFIED:20260327T050441Z
UID:1792-1805068800-1805155199@miyakojima.jp
SUMMARY:令和８年分贈与税の申告及び納付期限
DESCRIPTION:令和８年分の贈与税の申告・納付期限は令和９年３月15日（月）です。 マイナンバーカードがあれば、スマホやパソコンで申告書の作成・提出がいつでも可能です！ ぜひご利用ください。 \n\n\n\n 詳しくはこちらをご覧ください→
URL:https://miyakojima.jp/tax/event/%e4%bb%a4%e5%92%8c%ef%bc%98%e5%b9%b4%e5%88%86%e8%b4%88%e4%b8%8e%e7%a8%8e%e3%81%ae%e7%94%b3%e5%91%8a%e5%8f%8a%e3%81%b3%e7%b4%8d%e4%bb%98%e6%9c%9f%e9%99%90/
CATEGORIES:贈与税
END:VEVENT
END:VCALENDAR