BEGIN:VCALENDAR
VERSION:2.0
PRODID:-//宮古島「税」のカレンダー - ECPv6.8.3//NONSGML v1.0//EN
CALSCALE:GREGORIAN
METHOD:PUBLISH
X-WR-CALNAME:宮古島「税」のカレンダー
X-ORIGINAL-URL:https://miyakojima.jp/tax
X-WR-CALDESC:宮古島「税」のカレンダー のイベント
REFRESH-INTERVAL;VALUE=DURATION:PT1H
X-Robots-Tag:noindex
X-PUBLISHED-TTL:PT1H
BEGIN:VTIMEZONE
TZID:Asia/Tokyo
BEGIN:STANDARD
TZOFFSETFROM:+0900
TZOFFSETTO:+0900
TZNAME:JST
DTSTART:20270101T000000
END:STANDARD
END:VTIMEZONE
BEGIN:VEVENT
DTSTART;TZID=Asia/Tokyo:20270412T000000
DTEND;TZID=Asia/Tokyo:20270412T235959
DTSTAMP:20260421T115949
CREATED:20260318T011029Z
LAST-MODIFIED:20260318T011029Z
UID:1454-1807488000-1807574399@miyakojima.jp
SUMMARY:令和8年度 市・県民税3月分納期限（特別徴収：事業所納付分）
DESCRIPTION:
URL:https://miyakojima.jp/tax/event/%e4%bb%a4%e5%92%8c8%e5%b9%b4%e5%ba%a6-%e5%b8%82%e3%83%bb%e7%9c%8c%e6%b0%91%e7%a8%8e3%e6%9c%88%e5%88%86%e7%b4%8d%e6%9c%9f%e9%99%90%ef%bc%88%e7%89%b9%e5%88%a5%e5%be%b4%e5%8f%8e%ef%bc%9a%e4%ba%8b/
CATEGORIES:市民税
END:VEVENT
BEGIN:VEVENT
DTSTART;TZID=Asia/Tokyo:20270510T000000
DTEND;TZID=Asia/Tokyo:20270510T235959
DTSTAMP:20260421T115949
CREATED:20260318T011029Z
LAST-MODIFIED:20260318T011029Z
UID:1460-1809907200-1809993599@miyakojima.jp
SUMMARY:令和8年度 市・県民税4月分納期限（特別徴収：事業所納付分）
DESCRIPTION:
URL:https://miyakojima.jp/tax/event/%e4%bb%a4%e5%92%8c8%e5%b9%b4%e5%ba%a6-%e5%b8%82%e3%83%bb%e7%9c%8c%e6%b0%91%e7%a8%8e4%e6%9c%88%e5%88%86%e7%b4%8d%e6%9c%9f%e9%99%90%ef%bc%88%e7%89%b9%e5%88%a5%e5%be%b4%e5%8f%8e%ef%bc%9a%e4%ba%8b/
CATEGORIES:市民税
END:VEVENT
BEGIN:VEVENT
DTSTART;TZID=Asia/Tokyo:20270601T000000
DTEND;TZID=Asia/Tokyo:20270601T235959
DTSTAMP:20260421T115949
CREATED:20260318T011030Z
LAST-MODIFIED:20260318T011030Z
UID:1494-1811808000-1811894399@miyakojima.jp
SUMMARY:令和8年度軽自動車税（種別割）納付期限
DESCRIPTION:
URL:https://miyakojima.jp/tax/event/%e4%bb%a4%e5%92%8c8%e5%b9%b4%e5%ba%a6%e8%bb%bd%e8%87%aa%e5%8b%95%e8%bb%8a%e7%a8%8e%ef%bc%88%e7%a8%ae%e5%88%a5%e5%89%b2%ef%bc%89%e7%b4%8d%e4%bb%98%e6%9c%9f%e9%99%90/
CATEGORIES:諸税
END:VEVENT
BEGIN:VEVENT
DTSTART;TZID=Asia/Tokyo:20270610T000000
DTEND;TZID=Asia/Tokyo:20270610T235959
DTSTAMP:20260421T115949
CREATED:20260318T011022Z
LAST-MODIFIED:20260318T011022Z
UID:1461-1812585600-1812671999@miyakojima.jp
SUMMARY:令和8年度 市・県民税5月分納期限（特別徴収：事業所納付分）
DESCRIPTION:
URL:https://miyakojima.jp/tax/event/%e4%bb%a4%e5%92%8c8%e5%b9%b4%e5%ba%a6-%e5%b8%82%e3%83%bb%e7%9c%8c%e6%b0%91%e7%a8%8e5%e6%9c%88%e5%88%86%e7%b4%8d%e6%9c%9f%e9%99%90%ef%bc%88%e7%89%b9%e5%88%a5%e5%be%b4%e5%8f%8e%ef%bc%9a%e4%ba%8b/
CATEGORIES:市民税
END:VEVENT
END:VCALENDAR