BEGIN:VCALENDAR
VERSION:2.0
PRODID:-//宮古島「税」のカレンダー - ECPv6.8.3//NONSGML v1.0//EN
CALSCALE:GREGORIAN
METHOD:PUBLISH
X-ORIGINAL-URL:https://miyakojima.jp/tax
X-WR-CALDESC:宮古島「税」のカレンダー のイベント
REFRESH-INTERVAL;VALUE=DURATION:PT1H
X-Robots-Tag:noindex
X-PUBLISHED-TTL:PT1H
BEGIN:VTIMEZONE
TZID:Asia/Tokyo
BEGIN:STANDARD
TZOFFSETFROM:+0900
TZOFFSETTO:+0900
TZNAME:JST
DTSTART:20260101T000000
END:STANDARD
END:VTIMEZONE
BEGIN:VEVENT
DTSTART;TZID=Asia/Tokyo:20260302T000000
DTEND;TZID=Asia/Tokyo:20260302T235959
DTSTAMP:20260421T015813
CREATED:20241030T142336Z
LAST-MODIFIED:20241030T142336Z
UID:508-1772409600-1772495999@miyakojima.jp
SUMMARY:12月決算法人の法人税・消費税申告期限
DESCRIPTION:本日は、12月決算法人の法人税及び地方法人税、消費税及び地方消費税の確定申告期限です。
URL:https://miyakojima.jp/tax/event/12%e6%9c%88%e6%b1%ba%e7%ae%97%e6%b3%95%e4%ba%ba%e3%81%ae%e6%b3%95%e4%ba%ba%e7%a8%8e%e3%83%bb%e6%b6%88%e8%b2%bb%e7%a8%8e%e7%94%b3%e5%91%8a%e6%9c%9f%e9%99%90-2/
CATEGORIES:法人税・消費税
END:VEVENT
BEGIN:VEVENT
DTSTART;TZID=Asia/Tokyo:20260302T000000
DTEND;TZID=Asia/Tokyo:20260302T235959
DTSTAMP:20260421T015813
CREATED:20241031T234058Z
LAST-MODIFIED:20241031T234058Z
UID:731-1772409600-1772495999@miyakojima.jp
SUMMARY:令和7年度 固定資産税　第4期納期限
DESCRIPTION:
URL:https://miyakojima.jp/tax/event/%e4%bb%a4%e5%92%8c7%e5%b9%b4%e5%ba%a6-%e5%9b%ba%e5%ae%9a%e8%b3%87%e7%94%a3%e7%a8%8e%e3%80%80%e7%ac%ac4%e6%9c%9f%e7%b4%8d%e6%9c%9f%e9%99%90/
CATEGORIES:資産税
END:VEVENT
BEGIN:VEVENT
DTSTART;TZID=Asia/Tokyo:20260302T000000
DTEND;TZID=Asia/Tokyo:20260302T235959
DTSTAMP:20260421T015813
CREATED:20241031T234058Z
LAST-MODIFIED:20241031T234058Z
UID:723-1772409600-1772495999@miyakojima.jp
SUMMARY:12月決算法人　法人市民税申告・納付期限
DESCRIPTION:
URL:https://miyakojima.jp/tax/event/12%e6%9c%88%e6%b1%ba%e7%ae%97%e6%b3%95%e4%ba%ba%e3%80%80%e6%b3%95%e4%ba%ba%e5%b8%82%e6%b0%91%e7%a8%8e%e7%94%b3%e5%91%8a%e3%83%bb%e7%b4%8d%e4%bb%98%e6%9c%9f%e9%99%90-2/
CATEGORIES:諸税
END:VEVENT
BEGIN:VEVENT
DTSTART;TZID=Asia/Tokyo:20260302T000000
DTEND;TZID=Asia/Tokyo:20260302T235959
DTSTAMP:20260421T015813
CREATED:20241111T072757Z
LAST-MODIFIED:20241111T072824Z
UID:1016-1772409600-1772495999@miyakojima.jp
SUMMARY:12月決算法人　法人県民税・法人事業税等確定申告・納付期限
DESCRIPTION:本日は12月決算法人の法人県民税・法人事業税等確定申告・納付期限です。 \n\n\n\n宮古事務所県税課_法人県民税・法人事業税のお知らせ
URL:https://miyakojima.jp/tax/event/12%e6%9c%88%e6%b1%ba%e7%ae%97%e6%b3%95%e4%ba%ba%e3%80%80%e6%b3%95%e4%ba%ba%e7%9c%8c%e6%b0%91%e7%a8%8e%e3%83%bb%e6%b3%95%e4%ba%ba%e4%ba%8b%e6%a5%ad%e7%a8%8e%e7%ad%89%e7%a2%ba%e5%ae%9a%e7%94%b3%e5%91%8a/
CATEGORIES:法人県民税・法人事業税
END:VEVENT
BEGIN:VEVENT
DTSTART;TZID=Asia/Tokyo:20260302T000000
DTEND;TZID=Asia/Tokyo:20260302T235959
DTSTAMP:20260421T015813
CREATED:20260318T011033Z
LAST-MODIFIED:20260318T011033Z
UID:1477-1772409600-1772495999@miyakojima.jp
SUMMARY:令和8年度（令和7年分）市・県民税申告受付（市役所）　※夜間申告開催日
DESCRIPTION:※ 受付時間 午前 9：00 ～ 11：30　午後 13：00 ～ 17：00　夜間 17：30 ～ 19：30
URL:https://miyakojima.jp/tax/event/%e4%bb%a4%e5%92%8c8%e5%b9%b4%e5%ba%a6%ef%bc%88%e4%bb%a4%e5%92%8c7%e5%b9%b4%e5%88%86%ef%bc%89%e5%b8%82%e3%83%bb%e7%9c%8c%e6%b0%91%e7%a8%8e%e7%94%b3%e5%91%8a%e5%8f%97%e4%bb%98%ef%bc%88%e5%b8%82-17/
CATEGORIES:市民税
END:VEVENT
BEGIN:VEVENT
DTSTART;TZID=Asia/Tokyo:20260302T000000
DTEND;TZID=Asia/Tokyo:20260306T235959
DTSTAMP:20260421T015813
CREATED:20241031T234057Z
LAST-MODIFIED:20241031T234057Z
UID:702-1772409600-1772841599@miyakojima.jp
SUMMARY:令和8年度（令和7年分）市・県民税申告受付（市役所）
DESCRIPTION:※ 受付時間 午前 9：00 ～ 11：30　午後 13：00 ～ 17：00
URL:https://miyakojima.jp/tax/event/%e4%bb%a4%e5%92%8c8%e5%b9%b4%e5%ba%a6%ef%bc%88%e4%bb%a4%e5%92%8c7%e5%b9%b4%e5%88%86%ef%bc%89%e5%b8%82%e3%83%bb%e7%9c%8c%e6%b0%91%e7%a8%8e%e7%94%b3%e5%91%8a%e5%8f%97%e4%bb%98%ef%bc%88%e5%b8%82-3/
CATEGORIES:市民税
END:VEVENT
BEGIN:VEVENT
DTSTART;TZID=Asia/Tokyo:20260303T000000
DTEND;TZID=Asia/Tokyo:20260303T235959
DTSTAMP:20260421T015813
CREATED:20260318T011032Z
LAST-MODIFIED:20260318T011032Z
UID:1478-1772496000-1772582399@miyakojima.jp
SUMMARY:令和8年度（令和7年分）市・県民税申告受付（市役所）
DESCRIPTION:※ 受付時間 午前 9：00 ～ 11：30　午後 13：00 ～ 16：45
URL:https://miyakojima.jp/tax/event/%e4%bb%a4%e5%92%8c8%e5%b9%b4%e5%ba%a6%ef%bc%88%e4%bb%a4%e5%92%8c7%e5%b9%b4%e5%88%86%ef%bc%89%e5%b8%82%e3%83%bb%e7%9c%8c%e6%b0%91%e7%a8%8e%e7%94%b3%e5%91%8a%e5%8f%97%e4%bb%98%ef%bc%88%e5%b8%82-14/
CATEGORIES:市民税
END:VEVENT
BEGIN:VEVENT
DTSTART;TZID=Asia/Tokyo:20260304T000000
DTEND;TZID=Asia/Tokyo:20260304T235959
DTSTAMP:20260421T015813
CREATED:20260318T011021Z
LAST-MODIFIED:20260318T011021Z
UID:1479-1772582400-1772668799@miyakojima.jp
SUMMARY:令和8年度（令和7年分）市・県民税申告受付（市役所）　※夜間申告開催日
DESCRIPTION:※ 受付時間 午前 9：00 ～ 11：30　午後 13：00 ～ 17：00　夜間 17：30 ～ 19：30
URL:https://miyakojima.jp/tax/event/%e4%bb%a4%e5%92%8c8%e5%b9%b4%e5%ba%a6%ef%bc%88%e4%bb%a4%e5%92%8c7%e5%b9%b4%e5%88%86%ef%bc%89%e5%b8%82%e3%83%bb%e7%9c%8c%e6%b0%91%e7%a8%8e%e7%94%b3%e5%91%8a%e5%8f%97%e4%bb%98%ef%bc%88%e5%b8%82-7/
CATEGORIES:市民税
END:VEVENT
BEGIN:VEVENT
DTSTART;TZID=Asia/Tokyo:20260305T000000
DTEND;TZID=Asia/Tokyo:20260306T235959
DTSTAMP:20260421T015813
CREATED:20260318T011033Z
LAST-MODIFIED:20260318T011033Z
UID:1480-1772668800-1772841599@miyakojima.jp
SUMMARY:令和8年度（令和7年分）市・県民税申告受付（市役所）
DESCRIPTION:※ 受付時間 午前 9：00 ～ 11：30　午後 13：00 ～ 16：45
URL:https://miyakojima.jp/tax/event/%e4%bb%a4%e5%92%8c8%e5%b9%b4%e5%ba%a6%ef%bc%88%e4%bb%a4%e5%92%8c7%e5%b9%b4%e5%88%86%ef%bc%89%e5%b8%82%e3%83%bb%e7%9c%8c%e6%b0%91%e7%a8%8e%e7%94%b3%e5%91%8a%e5%8f%97%e4%bb%98%ef%bc%88%e5%b8%82-15/
CATEGORIES:市民税
END:VEVENT
BEGIN:VEVENT
DTSTART;TZID=Asia/Tokyo:20260309T000000
DTEND;TZID=Asia/Tokyo:20260309T235959
DTSTAMP:20260421T015813
CREATED:20260318T011032Z
LAST-MODIFIED:20260318T011032Z
UID:1481-1773014400-1773100799@miyakojima.jp
SUMMARY:令和8年度（令和7年分）市・県民税申告受付（市役所）
DESCRIPTION:※ 受付時間 午前 9：00 ～ 11：30　午後 13：00 ～ 16：45
URL:https://miyakojima.jp/tax/event/%e4%bb%a4%e5%92%8c8%e5%b9%b4%e5%ba%a6%ef%bc%88%e4%bb%a4%e5%92%8c7%e5%b9%b4%e5%88%86%ef%bc%89%e5%b8%82%e3%83%bb%e7%9c%8c%e6%b0%91%e7%a8%8e%e7%94%b3%e5%91%8a%e5%8f%97%e4%bb%98%ef%bc%88%e5%b8%82-13/
CATEGORIES:市民税
END:VEVENT
BEGIN:VEVENT
DTSTART;TZID=Asia/Tokyo:20260309T000000
DTEND;TZID=Asia/Tokyo:20260310T235959
DTSTAMP:20260421T015813
CREATED:20241031T234057Z
LAST-MODIFIED:20241031T234057Z
UID:703-1773014400-1773187199@miyakojima.jp
SUMMARY:令和8年度（令和7年分）市・県民税申告受付（市役所）
DESCRIPTION:※ 受付時間 午前 9：00 ～ 11：30　午後 13：00 ～ 17：00
URL:https://miyakojima.jp/tax/event/%e4%bb%a4%e5%92%8c8%e5%b9%b4%e5%ba%a6%ef%bc%88%e4%bb%a4%e5%92%8c7%e5%b9%b4%e5%88%86%ef%bc%89%e5%b8%82%e3%83%bb%e7%9c%8c%e6%b0%91%e7%a8%8e%e7%94%b3%e5%91%8a%e5%8f%97%e4%bb%98%ef%bc%88%e5%b8%82-2/
CATEGORIES:市民税
END:VEVENT
BEGIN:VEVENT
DTSTART;TZID=Asia/Tokyo:20260310T000000
DTEND;TZID=Asia/Tokyo:20260310T235959
DTSTAMP:20260421T015813
CREATED:20241031T012946Z
LAST-MODIFIED:20241031T012946Z
UID:509-1773100800-1773187199@miyakojima.jp
SUMMARY:２月分源泉所得税の納付期限
DESCRIPTION:本日は、令和８年２月分の源泉所得税及び復興特別所得税の納付期限です。 \n\n\n\n源泉所得税及び復興特別所得税の納付期限と納期の特例
URL:https://miyakojima.jp/tax/event/%ef%bc%92%e6%9c%88%e5%88%86%e6%ba%90%e6%b3%89%e6%89%80%e5%be%97%e7%a8%8e%e3%81%ae%e7%b4%8d%e4%bb%98%e6%9c%9f%e9%99%90-2/
CATEGORIES:源泉所得税
END:VEVENT
BEGIN:VEVENT
DTSTART;TZID=Asia/Tokyo:20260310T000000
DTEND;TZID=Asia/Tokyo:20260310T235959
DTSTAMP:20260421T015813
CREATED:20241031T234056Z
LAST-MODIFIED:20241031T234056Z
UID:704-1773100800-1773187199@miyakojima.jp
SUMMARY:令和7年度 市・県民税2月分納期限（特別徴収：事業所納付分）
DESCRIPTION:
URL:https://miyakojima.jp/tax/event/%e4%bb%a4%e5%92%8c7%e5%b9%b4%e5%ba%a6-%e5%b8%82%e3%83%bb%e7%9c%8c%e6%b0%91%e7%a8%8e2%e6%9c%88%e5%88%86%e7%b4%8d%e6%9c%9f%e9%99%90%ef%bc%88%e7%89%b9%e5%88%a5%e5%be%b4%e5%8f%8e%ef%bc%9a%e4%ba%8b/
CATEGORIES:市民税
END:VEVENT
BEGIN:VEVENT
DTSTART;TZID=Asia/Tokyo:20260310T000000
DTEND;TZID=Asia/Tokyo:20260310T235959
DTSTAMP:20260421T015813
CREATED:20260318T011031Z
LAST-MODIFIED:20260318T011031Z
UID:1482-1773100800-1773187199@miyakojima.jp
SUMMARY:令和8年度（令和7年分）市・県民税申告受付（市役所）　※夜間申告開催日
DESCRIPTION:※ 受付時間 午前 9：00 ～ 11：30　午後 13：00 ～ 17：00　夜間 17：30 ～ 19：30
URL:https://miyakojima.jp/tax/event/%e4%bb%a4%e5%92%8c8%e5%b9%b4%e5%ba%a6%ef%bc%88%e4%bb%a4%e5%92%8c7%e5%b9%b4%e5%88%86%ef%bc%89%e5%b8%82%e3%83%bb%e7%9c%8c%e6%b0%91%e7%a8%8e%e7%94%b3%e5%91%8a%e5%8f%97%e4%bb%98%ef%bc%88%e5%b8%82-11/
CATEGORIES:市民税
END:VEVENT
BEGIN:VEVENT
DTSTART;TZID=Asia/Tokyo:20260311T000000
DTEND;TZID=Asia/Tokyo:20260311T235959
DTSTAMP:20260421T015813
CREATED:20260318T011030Z
LAST-MODIFIED:20260318T011030Z
UID:1483-1773187200-1773273599@miyakojima.jp
SUMMARY:令和8年度（令和7年分）市・県民税申告受付（市役所）
DESCRIPTION:※ 受付時間 午前 9：00 ～ 11：30　午後 13：00 ～ 16：45
URL:https://miyakojima.jp/tax/event/%e4%bb%a4%e5%92%8c8%e5%b9%b4%e5%ba%a6%ef%bc%88%e4%bb%a4%e5%92%8c7%e5%b9%b4%e5%88%86%ef%bc%89%e5%b8%82%e3%83%bb%e7%9c%8c%e6%b0%91%e7%a8%8e%e7%94%b3%e5%91%8a%e5%8f%97%e4%bb%98%ef%bc%88%e5%b8%82-8/
CATEGORIES:市民税
END:VEVENT
BEGIN:VEVENT
DTSTART;TZID=Asia/Tokyo:20260311T000000
DTEND;TZID=Asia/Tokyo:20260313T235959
DTSTAMP:20260421T015813
CREATED:20241031T234056Z
LAST-MODIFIED:20241031T234056Z
UID:705-1773187200-1773446399@miyakojima.jp
SUMMARY:令和8年度（令和7年分）市・県民税申告受付（市役所）
DESCRIPTION:※ 受付時間 午前 9：00 ～ 11：30　午後 13：00 ～ 17：00
URL:https://miyakojima.jp/tax/event/%e4%bb%a4%e5%92%8c8%e5%b9%b4%e5%ba%a6%ef%bc%88%e4%bb%a4%e5%92%8c7%e5%b9%b4%e5%88%86%ef%bc%89%e5%b8%82%e3%83%bb%e7%9c%8c%e6%b0%91%e7%a8%8e%e7%94%b3%e5%91%8a%e5%8f%97%e4%bb%98%ef%bc%88%e5%b8%82%e5%bd%b9/
CATEGORIES:市民税
END:VEVENT
BEGIN:VEVENT
DTSTART;TZID=Asia/Tokyo:20260312T000000
DTEND;TZID=Asia/Tokyo:20260312T235959
DTSTAMP:20260421T015813
CREATED:20260318T011032Z
LAST-MODIFIED:20260318T011032Z
UID:1484-1773273600-1773359999@miyakojima.jp
SUMMARY:令和8年度（令和7年分）市・県民税申告受付（市役所）　※夜間申告開催日
DESCRIPTION:※ 受付時間 午前 9：00 ～ 11：30　午後 13：00 ～ 17：00　夜間 17：30 ～ 19：30
URL:https://miyakojima.jp/tax/event/%e4%bb%a4%e5%92%8c8%e5%b9%b4%e5%ba%a6%ef%bc%88%e4%bb%a4%e5%92%8c7%e5%b9%b4%e5%88%86%ef%bc%89%e5%b8%82%e3%83%bb%e7%9c%8c%e6%b0%91%e7%a8%8e%e7%94%b3%e5%91%8a%e5%8f%97%e4%bb%98%ef%bc%88%e5%b8%82-12/
CATEGORIES:市民税
END:VEVENT
BEGIN:VEVENT
DTSTART;TZID=Asia/Tokyo:20260313T000000
DTEND;TZID=Asia/Tokyo:20260313T235959
DTSTAMP:20260421T015813
CREATED:20260318T011031Z
LAST-MODIFIED:20260318T011031Z
UID:1485-1773360000-1773446399@miyakojima.jp
SUMMARY:令和8年度（令和7年分）市・県民税申告受付（市役所）
DESCRIPTION:※ 受付時間 午前 9：00 ～ 11：30　午後 13：00 ～ 16：45
URL:https://miyakojima.jp/tax/event/%e4%bb%a4%e5%92%8c8%e5%b9%b4%e5%ba%a6%ef%bc%88%e4%bb%a4%e5%92%8c7%e5%b9%b4%e5%88%86%ef%bc%89%e5%b8%82%e3%83%bb%e7%9c%8c%e6%b0%91%e7%a8%8e%e7%94%b3%e5%91%8a%e5%8f%97%e4%bb%98%ef%bc%88%e5%b8%82-9/
CATEGORIES:市民税
END:VEVENT
BEGIN:VEVENT
DTSTART;TZID=Asia/Tokyo:20260315T000000
DTEND;TZID=Asia/Tokyo:20260315T235959
DTSTAMP:20260421T015813
CREATED:20260318T011031Z
LAST-MODIFIED:20260318T011031Z
UID:1486-1773532800-1773619199@miyakojima.jp
SUMMARY:令和8年度（令和7年分）市・県民税申告受付（市役所）　※休日申告
DESCRIPTION:※ 受付時間 午前 9：00 ～ 12：00　午後 13：00 ～ 15：00
URL:https://miyakojima.jp/tax/event/%e4%bb%a4%e5%92%8c8%e5%b9%b4%e5%ba%a6%ef%bc%88%e4%bb%a4%e5%92%8c7%e5%b9%b4%e5%88%86%ef%bc%89%e5%b8%82%e3%83%bb%e7%9c%8c%e6%b0%91%e7%a8%8e%e7%94%b3%e5%91%8a%e5%8f%97%e4%bb%98%ef%bc%88%e5%b8%82-10/
CATEGORIES:市民税
END:VEVENT
BEGIN:VEVENT
DTSTART;TZID=Asia/Tokyo:20260316T000000
DTEND;TZID=Asia/Tokyo:20260316T235959
DTSTAMP:20260421T015813
CREATED:20241031T012857Z
LAST-MODIFIED:20241031T012858Z
UID:313-1773619200-1773705599@miyakojima.jp
SUMMARY:令和７年分の所得税の申告及び納付期限
DESCRIPTION:“令和７年分の所得税及び復興特別所得税の申告・納付期限は令和８年３月16日（月）です。マイナンバーカードがあれば、スマホやパソコンで申告書の作成・提出がいつでも可能です！ぜひご利用ください。” \n\n\n\n国税庁 確定申告書等作成コーナー
URL:https://miyakojima.jp/tax/event/%e4%bb%a4%e5%92%8c%ef%bc%97%e5%b9%b4%e5%88%86%e3%81%ae%e6%89%80%e5%be%97%e7%a8%8e%e3%81%ae%e7%94%b3%e5%91%8a%e5%8f%8a%e3%81%b3%e7%b4%8d%e4%bb%98%e6%9c%9f%e9%99%90/
CATEGORIES:所得税
END:VEVENT
BEGIN:VEVENT
DTSTART;TZID=Asia/Tokyo:20260316T000000
DTEND;TZID=Asia/Tokyo:20260316T235959
DTSTAMP:20260421T015813
CREATED:20241031T234115Z
LAST-MODIFIED:20241031T234115Z
UID:512-1773619200-1773705599@miyakojima.jp
SUMMARY:R７年分贈与税の申告及び納付期限
DESCRIPTION:令和７年分の贈与税の申告・納付期限は令和８年３月16日（月）です。マイナンバーカードがあれば、スマホやパソコンで申告書の作成・提出がいつでも可能です！ぜひご利用ください。 \n\n\n\n国税庁 確定申告書等作成コーナー
URL:https://miyakojima.jp/tax/event/r%ef%bc%97%e5%b9%b4%e5%88%86%e8%b4%88%e4%b8%8e%e7%a8%8e%e3%81%ae%e7%94%b3%e5%91%8a%e5%8f%8a%e3%81%b3%e7%b4%8d%e4%bb%98%e6%9c%9f%e9%99%90/
CATEGORIES:資産税
END:VEVENT
BEGIN:VEVENT
DTSTART;TZID=Asia/Tokyo:20260316T000000
DTEND;TZID=Asia/Tokyo:20260316T235959
DTSTAMP:20260421T015813
CREATED:20260318T011021Z
LAST-MODIFIED:20260318T011021Z
UID:1487-1773619200-1773705599@miyakojima.jp
SUMMARY:令和8年度（令和7年分）市・県民税申告受付（市役所）
DESCRIPTION:※ 受付時間 午前 9：00 ～ 11：30　午後 13：00 ～ 16：45
URL:https://miyakojima.jp/tax/event/%e4%bb%a4%e5%92%8c8%e5%b9%b4%e5%ba%a6%ef%bc%88%e4%bb%a4%e5%92%8c7%e5%b9%b4%e5%88%86%ef%bc%89%e5%b8%82%e3%83%bb%e7%9c%8c%e6%b0%91%e7%a8%8e%e7%94%b3%e5%91%8a%e5%8f%97%e4%bb%98%ef%bc%88%e5%b8%82-6/
CATEGORIES:市民税
END:VEVENT
BEGIN:VEVENT
DTSTART;TZID=Asia/Tokyo:20260331T000000
DTEND;TZID=Asia/Tokyo:20260331T235959
DTSTAMP:20260421T015813
CREATED:20241030T142336Z
LAST-MODIFIED:20241030T142336Z
UID:510-1774915200-1775001599@miyakojima.jp
SUMMARY:１月決算法人の法人税・消費税申告期限
DESCRIPTION:本日は、１月決算法人の法人税及び地方法人税、消費税及び地方消費税の確定申告期限です。
URL:https://miyakojima.jp/tax/event/%ef%bc%91%e6%9c%88%e6%b1%ba%e7%ae%97%e6%b3%95%e4%ba%ba%e3%81%ae%e6%b3%95%e4%ba%ba%e7%a8%8e%e3%83%bb%e6%b6%88%e8%b2%bb%e7%a8%8e%e7%94%b3%e5%91%8a%e6%9c%9f%e9%99%90-2/
CATEGORIES:法人税・消費税
END:VEVENT
BEGIN:VEVENT
DTSTART;TZID=Asia/Tokyo:20260331T000000
DTEND;TZID=Asia/Tokyo:20260331T235959
DTSTAMP:20260421T015813
CREATED:20241031T012901Z
LAST-MODIFIED:20241031T012902Z
UID:315-1774915200-1775001599@miyakojima.jp
SUMMARY:令和７年分の消費税の申告及び納付期限
DESCRIPTION:令和７年分の消費税及び地方消費税の申告・納付期限は令和８年３月31日（火）です。マイナンバーカードがあれば、スマホやパソコンで申告書の作成・提出がいつでも可能です！ぜひご利用ください。 \n\n\n\n国税庁 確定申告書等作成コーナー
URL:https://miyakojima.jp/tax/event/%e4%bb%a4%e5%92%8c%ef%bc%97%e5%b9%b4%e5%88%86%e3%81%ae%e6%b6%88%e8%b2%bb%e7%a8%8e%e3%81%ae%e7%94%b3%e5%91%8a%e5%8f%8a%e3%81%b3%e7%b4%8d%e4%bb%98%e6%9c%9f%e9%99%90/
CATEGORIES:所得税
END:VEVENT
BEGIN:VEVENT
DTSTART;TZID=Asia/Tokyo:20260331T000000
DTEND;TZID=Asia/Tokyo:20260331T235959
DTSTAMP:20260421T015813
CREATED:20241031T234056Z
LAST-MODIFIED:20241031T234056Z
UID:724-1774915200-1775001599@miyakojima.jp
SUMMARY:1月決算法人　法人市民税申告・納付期限
DESCRIPTION:
URL:https://miyakojima.jp/tax/event/1%e6%9c%88%e6%b1%ba%e7%ae%97%e6%b3%95%e4%ba%ba%e3%80%80%e6%b3%95%e4%ba%ba%e5%b8%82%e6%b0%91%e7%a8%8e%e7%94%b3%e5%91%8a%e3%83%bb%e7%b4%8d%e4%bb%98%e6%9c%9f%e9%99%90/
CATEGORIES:諸税
END:VEVENT
BEGIN:VEVENT
DTSTART;TZID=Asia/Tokyo:20260331T000000
DTEND;TZID=Asia/Tokyo:20260331T235959
DTSTAMP:20260421T015813
CREATED:20241111T072757Z
LAST-MODIFIED:20241111T072823Z
UID:1017-1774915200-1775001599@miyakojima.jp
SUMMARY:1月決算法人　法人県民税・法人事業税等確定申告・納付期限
DESCRIPTION:本日は1月決算法人の法人県民税・法人事業税等確定申告・納付期限です。 \n\n\n\n宮古事務所県税課_法人県民税・法人事業税のお知らせ
URL:https://miyakojima.jp/tax/event/1%e6%9c%88%e6%b1%ba%e7%ae%97%e6%b3%95%e4%ba%ba%e3%80%80%e6%b3%95%e4%ba%ba%e7%9c%8c%e6%b0%91%e7%a8%8e%e3%83%bb%e6%b3%95%e4%ba%ba%e4%ba%8b%e6%a5%ad%e7%a8%8e%e7%ad%89%e7%a2%ba%e5%ae%9a%e7%94%b3%e5%91%8a/
CATEGORIES:法人県民税・法人事業税
END:VEVENT
BEGIN:VEVENT
DTSTART;TZID=Asia/Tokyo:20260410T000000
DTEND;TZID=Asia/Tokyo:20260410T235959
DTSTAMP:20260421T015813
CREATED:20260327T050441Z
LAST-MODIFIED:20260327T050441Z
UID:1793-1775779200-1775865599@miyakojima.jp
SUMMARY:３月分源泉所得税の納付期限
DESCRIPTION:本日は、令和８年３月分の源泉所得税及び復興特別所得税の納付期限です。 \n\n\n\n 詳しくはこちらをご覧ください→
URL:https://miyakojima.jp/tax/event/%ef%bc%93%e6%9c%88%e5%88%86%e6%ba%90%e6%b3%89%e6%89%80%e5%be%97%e7%a8%8e%e3%81%ae%e7%b4%8d%e4%bb%98%e6%9c%9f%e9%99%90-2/
CATEGORIES:所得税
END:VEVENT
BEGIN:VEVENT
DTSTART;TZID=Asia/Tokyo:20260423T000000
DTEND;TZID=Asia/Tokyo:20260423T235959
DTSTAMP:20260421T015813
CREATED:20260327T050442Z
LAST-MODIFIED:20260327T050442Z
UID:1788-1776902400-1776988799@miyakojima.jp
SUMMARY:令和7年分の確定申告の振替納付日（所得税及び復興特別所得税）
DESCRIPTION:令和7年分の確定申告の振替納付日（所得税及び復興特別所得税）は、令和8年4月23日（木）です。 \n\n\n\n 詳しくはこちらをご覧ください→
URL:https://miyakojima.jp/tax/event/%e4%bb%a4%e5%92%8c7%e5%b9%b4%e5%88%86%e3%81%ae%e7%a2%ba%e5%ae%9a%e7%94%b3%e5%91%8a%e3%81%ae%e6%8c%af%e6%9b%bf%e7%b4%8d%e4%bb%98%e6%97%a5%ef%bc%88%e6%89%80%e5%be%97%e7%a8%8e%e5%8f%8a%e3%81%b3%e5%be%a9/
CATEGORIES:所得税
END:VEVENT
BEGIN:VEVENT
DTSTART;TZID=Asia/Tokyo:20260430T000000
DTEND;TZID=Asia/Tokyo:20260430T235959
DTSTAMP:20260421T015813
CREATED:20260327T050436Z
LAST-MODIFIED:20260327T050436Z
UID:1807-1777507200-1777593599@miyakojima.jp
SUMMARY:２月決算法人の法人税・消費税申告期限
DESCRIPTION:本日は、２月決算法人の法人税及び地方法人税、消費税及び地方消費税の確定申告期限です。
URL:https://miyakojima.jp/tax/event/%ef%bc%92%e6%9c%88%e6%b1%ba%e7%ae%97%e6%b3%95%e4%ba%ba%e3%81%ae%e6%b3%95%e4%ba%ba%e7%a8%8e%e3%83%bb%e6%b6%88%e8%b2%bb%e7%a8%8e%e7%94%b3%e5%91%8a%e6%9c%9f%e9%99%90-2/
CATEGORIES:法人税・消費税
END:VEVENT
BEGIN:VEVENT
DTSTART;TZID=Asia/Tokyo:20260430T000000
DTEND;TZID=Asia/Tokyo:20260430T235959
DTSTAMP:20260421T015813
CREATED:20260327T050442Z
LAST-MODIFIED:20260327T050442Z
UID:1789-1777507200-1777593599@miyakojima.jp
SUMMARY:令和7年分の確定申告の振替納付日（個人事業者の消費税及び地方消費税）
DESCRIPTION:令和7年分の確定申告の振替納付日（個人事業者の消費税及び地方消費税）は、令和8年4月30日（木）です。 \n\n\n\n 詳しくはこちらをご覧ください→
URL:https://miyakojima.jp/tax/event/%e4%bb%a4%e5%92%8c7%e5%b9%b4%e5%88%86%e3%81%ae%e7%a2%ba%e5%ae%9a%e7%94%b3%e5%91%8a%e3%81%ae%e6%8c%af%e6%9b%bf%e7%b4%8d%e4%bb%98%e6%97%a5%ef%bc%88%e5%80%8b%e4%ba%ba%e4%ba%8b%e6%a5%ad%e8%80%85%e3%81%ae/
CATEGORIES:消費税
END:VEVENT
END:VCALENDAR