BEGIN:VCALENDAR
VERSION:2.0
PRODID:-//宮古島「税」のカレンダー - ECPv6.8.3//NONSGML v1.0//EN
CALSCALE:GREGORIAN
METHOD:PUBLISH
X-ORIGINAL-URL:https://miyakojima.jp/tax
X-WR-CALDESC:宮古島「税」のカレンダー のイベント
REFRESH-INTERVAL;VALUE=DURATION:PT1H
X-Robots-Tag:noindex
X-PUBLISHED-TTL:PT1H
BEGIN:VTIMEZONE
TZID:Asia/Tokyo
BEGIN:STANDARD
TZOFFSETFROM:+0900
TZOFFSETTO:+0900
TZNAME:JST
DTSTART:20260101T000000
END:STANDARD
END:VTIMEZONE
BEGIN:VEVENT
DTSTART;TZID=Asia/Tokyo:20260202T000000
DTEND;TZID=Asia/Tokyo:20260202T235959
DTSTAMP:20260421T014725
CREATED:20241030T142335Z
LAST-MODIFIED:20241030T142335Z
UID:505-1769990400-1770076799@miyakojima.jp
SUMMARY:11月決算法人の法人税・消費税申告期限
DESCRIPTION:本日は、11月決算法人の法人税及び地方法人税、消費税及び地方消費税の確定申告期限です。
URL:https://miyakojima.jp/tax/event/11%e6%9c%88%e6%b1%ba%e7%ae%97%e6%b3%95%e4%ba%ba%e3%81%ae%e6%b3%95%e4%ba%ba%e7%a8%8e%e3%83%bb%e6%b6%88%e8%b2%bb%e7%a8%8e%e7%94%b3%e5%91%8a%e6%9c%9f%e9%99%90/
CATEGORIES:法人税・消費税
END:VEVENT
BEGIN:VEVENT
DTSTART;TZID=Asia/Tokyo:20260202T000000
DTEND;TZID=Asia/Tokyo:20260202T235959
DTSTAMP:20260421T014725
CREATED:20241031T012945Z
LAST-MODIFIED:20241031T012945Z
UID:506-1769990400-1770076799@miyakojima.jp
SUMMARY:法定調書の提出期限
DESCRIPTION:本日は、給与所得の源泉徴収票などの法定調書の提出期限です。
URL:https://miyakojima.jp/tax/event/%e6%b3%95%e5%ae%9a%e8%aa%bf%e6%9b%b8%e3%81%ae%e6%8f%90%e5%87%ba%e6%9c%9f%e9%99%90-2/
CATEGORIES:源泉所得税
END:VEVENT
BEGIN:VEVENT
DTSTART;TZID=Asia/Tokyo:20260202T000000
DTEND;TZID=Asia/Tokyo:20260202T235959
DTSTAMP:20260421T014725
CREATED:20241031T234101Z
LAST-MODIFIED:20241031T234101Z
UID:693-1769990400-1770076799@miyakojima.jp
SUMMARY:令和8年度（令和7年分）市・県民税申告受付（受付地区未定）
DESCRIPTION:※ 受付時間 午前 9：00 ～ 11：30　午後 13：00 ～ 16：45
URL:https://miyakojima.jp/tax/event/%e4%bb%a4%e5%92%8c8%e5%b9%b4%e5%ba%a6%ef%bc%88%e4%bb%a4%e5%92%8c7%e5%b9%b4%e5%88%86%ef%bc%89%e5%b8%82%e3%83%bb%e7%9c%8c%e6%b0%91%e7%a8%8e%e7%94%b3%e5%91%8a%e5%8f%97%e4%bb%98%ef%bc%88%e5%8f%97-5/
CATEGORIES:市民税
END:VEVENT
BEGIN:VEVENT
DTSTART;TZID=Asia/Tokyo:20260202T000000
DTEND;TZID=Asia/Tokyo:20260202T235959
DTSTAMP:20260421T014725
CREATED:20241031T234101Z
LAST-MODIFIED:20241031T234101Z
UID:694-1769990400-1770076799@miyakojima.jp
SUMMARY:令和7年度 市・県民税第4期納期限（普通庁中：本人納付分）
DESCRIPTION:
URL:https://miyakojima.jp/tax/event/%e4%bb%a4%e5%92%8c7%e5%b9%b4%e5%ba%a6-%e5%b8%82%e3%83%bb%e7%9c%8c%e6%b0%91%e7%a8%8e%e7%ac%ac4%e6%9c%9f%e7%b4%8d%e6%9c%9f%e9%99%90%ef%bc%88%e6%99%ae%e9%80%9a%e5%ba%81%e4%b8%ad%ef%bc%9a%e6%9c%ac/
CATEGORIES:市民税
END:VEVENT
BEGIN:VEVENT
DTSTART;TZID=Asia/Tokyo:20260202T000000
DTEND;TZID=Asia/Tokyo:20260202T235959
DTSTAMP:20260421T014725
CREATED:20241031T234102Z
LAST-MODIFIED:20241031T234102Z
UID:722-1769990400-1770076799@miyakojima.jp
SUMMARY:11月決算法人　法人市民税申告・納付期限
DESCRIPTION:
URL:https://miyakojima.jp/tax/event/11%e6%9c%88%e6%b1%ba%e7%ae%97%e6%b3%95%e4%ba%ba%e3%80%80%e6%b3%95%e4%ba%ba%e5%b8%82%e6%b0%91%e7%a8%8e%e7%94%b3%e5%91%8a%e3%83%bb%e7%b4%8d%e4%bb%98%e6%9c%9f%e9%99%90-2/
CATEGORIES:諸税
END:VEVENT
BEGIN:VEVENT
DTSTART;TZID=Asia/Tokyo:20260202T000000
DTEND;TZID=Asia/Tokyo:20260202T235959
DTSTAMP:20260421T014725
CREATED:20241111T072758Z
LAST-MODIFIED:20241111T072824Z
UID:1015-1769990400-1770076799@miyakojima.jp
SUMMARY:11月決算法人　法人県民税・法人事業税等確定申告・納付期限
DESCRIPTION:本日は11月決算法人の法人県民税・法人事業税等確定申告・納付期限です。 \n\n\n\n宮古事務所県税課_法人県民税・法人事業税のお知らせ
URL:https://miyakojima.jp/tax/event/11%e6%9c%88%e6%b1%ba%e7%ae%97%e6%b3%95%e4%ba%ba%e3%80%80%e6%b3%95%e4%ba%ba%e7%9c%8c%e6%b0%91%e7%a8%8e%e3%83%bb%e6%b3%95%e4%ba%ba%e4%ba%8b%e6%a5%ad%e7%a8%8e%e7%ad%89%e7%a2%ba%e5%ae%9a%e7%94%b3%e5%91%8a/
CATEGORIES:法人県民税・法人事業税
END:VEVENT
BEGIN:VEVENT
DTSTART;TZID=Asia/Tokyo:20260202T000000
DTEND;TZID=Asia/Tokyo:20260202T235959
DTSTAMP:20260421T014725
CREATED:20260318T011036Z
LAST-MODIFIED:20260318T011036Z
UID:1466-1769990400-1770076799@miyakojima.jp
SUMMARY:令和8年度（令和7年分）市・県民税申告受付（下地公民館）
DESCRIPTION:※ 受付時間 午前 9：00 ～ 11：30　午後 13：00 ～ 16：20
URL:https://miyakojima.jp/tax/event/%e4%bb%a4%e5%92%8c8%e5%b9%b4%e5%ba%a6%ef%bc%88%e4%bb%a4%e5%92%8c7%e5%b9%b4%e5%88%86%ef%bc%89%e5%b8%82%e3%83%bb%e7%9c%8c%e6%b0%91%e7%a8%8e%e7%94%b3%e5%91%8a%e5%8f%97%e4%bb%98%ef%bc%88%e4%b8%8b-2/
CATEGORIES:市民税
END:VEVENT
END:VCALENDAR